Workbook

Sheet 汽車vs機車
B2: 汽車 | C2: 機車
A3: 平均油耗 | B3: =汽車加油記錄!I3 -> 9.67 | C3: =機車加油記錄!I3 -> 39.25
A4: 單日里程數 | B4: =26+20 -> 46 | C4: =(19.5+21.5)*機車加油記錄!A3 -> 37.080103
A5: 單日油資 | B5: =(B4/B3)*AVERAGE(汽車加油記錄!A7:A112) -> 143.86468 | C5: =(C4/C3)*AVERAGE(機車加油記錄!A7:A138) -> 28.825647 | F5: 機車單月實際油資及維護支出
A6: 單日節省 機 vs 汽 | B6: 0 | C6: =$B5-C5 -> 115.03903 | E6: 時間 | F6: 一月份 | G6: 二月份 | H6: 三月份 | I6: 四月份 | J6: 五月份 | K6: 六月份 | L6: 七月份 | M6: 八月份 | N6: 九月份 | O6: 十月份 | P6: 十一月份 | Q6: 十二月份 | R6: 平均月支出
A7: 預估單月上班油資 | B7: =B5*20 -> 2877.2935 | C7: =C5*20 -> 576.51294 | E7: 2010--加油 | F7: =SUMIFS(機車加油記錄!$G$7:$G$201,機車加油記錄!$C$7:$C$201,">2009/12/31",機車加油記錄!$C$7:$C$201,"<2010/02/01") -> 170 | G7: =SUMIFS(機車加油記錄!$G$7:$G$201,機車加油記錄!$C$7:$C$201,">2010/01/31",機車加油記錄!$C$7:$C$201,"<2010/03/01") -> 0 | H7: =SUMIFS(機車加油記錄!$G$7:$G$201,機車加油記錄!$C$7:$C$201,">2010/02/28",機車加油記錄!$C$7:$C$201,"<2010/04/01") -> 0 | I7: =SUMIFS(機車加油記錄!$G$7:$G$201,機車加油記錄!$C$7:$C$201,">2010/03/31",機車加油記錄!$C$7:$C$201,"<2010/05/01") -> 0 | J7: =SUMIFS(機車加油記錄!$G$7:$G$201,機車加油記錄!$C$7:$C$201,">2010/04/30",機車加油記錄!$C$7:$C$201,"<2010/06/01") -> 0 | K7: =SUMIFS(機車加油記錄!$G$7:$G$201,機車加油記錄!$C$7:$C$201,">2010/05/31",機車加油記錄!$C$7:$C$201,"<2010/07/01") -> 0 | L7: =SUMIFS(機車加油記錄!$G$7:$G$201,機車加油記錄!$C$7:$C$201,">2010/06/30",機車加油記錄!$C$7:$C$201,"<2010/08/01") -> 0 | M7: =SUMIFS(機車加油記錄!$G$7:$G$201,機車加油記錄!$C$7:$C$201,">2010/07/31",機車加油記錄!$C$7:$C$201,"<2010/09/01") -> 0 | N7: =SUMIFS(機車加油記錄!$G$7:$G$201,機車加油記錄!$C$7:$C$201,">2010/08/31",機車加油記錄!$C$7:$C$201,"<2010/10/01") -> 0 | O7: =SUMIFS(機車加油記錄!$G$7:$G$201,機車加油記錄!$C$7:$C$201,">2010/09/30",機車加油記錄!$C$7:$C$201,"<2010/11/01") -> 0 | P7: =SUMIFS(機車加油記錄!$G$7:$G$201,機車加油記錄!$C$7:$C$201,">2010/10/31",機車加油記錄!$C$7:$C$201,"<2010/12/01") -> 0 | Q7: =SUMIFS(機車加油記錄!$G$7:$G$201,機車加油記錄!$C$7:$C$201,">2010/11/30",機車加油記錄!$C$7:$C$201,"<2011/01/01") -> 0 | R7: =(AVERAGEIF(F7:Q7,">0")+AVERAGEIF(F8:Q8,">0")) -> 181.05263
A8: 單月節省 機 vs 汽 | B8: 月省 | C8: =C6*20 -> 2300.7806 | E8: 2010--維護 | F8: =SUMIFS(機車加油記錄!$J$7:$J$201,機車加油記錄!$C$7:$C$201,">2009/12/31",機車加油記錄!$C$7:$C$201,"<2010/02/01") -> 11.052632 | G8: =SUMIFS(機車加油記錄!$J$7:$J$201,機車加油記錄!$C$7:$C$201,">2010/01/31",機車加油記錄!$C$7:$C$201,"<2010/03/01") -> 0 | H8: =SUMIFS(機車加油記錄!$J$7:$J$201,機車加油記錄!$C$7:$C$201,">2010/02/28",機車加油記錄!$C$7:$C$201,"<2010/04/01") -> 0 | I8: =SUMIFS(機車加油記錄!$J$7:$J$201,機車加油記錄!$C$7:$C$201,">2010/03/31",機車加油記錄!$C$7:$C$201,"<2010/05/01") -> 0 | J8: =SUMIFS(機車加油記錄!$J$7:$J$201,機車加油記錄!$C$7:$C$201,">2010/04/30",機車加油記錄!$C$7:$C$201,"<2010/06/01") -> 0 | K8: =SUMIFS(機車加油記錄!$J$7:$J$201,機車加油記錄!$C$7:$C$201,">2010/05/31",機車加油記錄!$C$7:$C$201,"<2010/07/01") -> 0 | L8: =SUMIFS(機車加油記錄!$J$7:$J$201,機車加油記錄!$C$7:$C$201,">2010/06/30",機車加油記錄!$C$7:$C$201,"<2010/08/01") -> 0 | M8: =SUMIFS(機車加油記錄!$J$7:$J$201,機車加油記錄!$C$7:$C$201,">2010/07/31",機車加油記錄!$C$7:$C$201,"<2010/09/01") -> 0 | N8: =SUMIFS(機車加油記錄!$J$7:$J$201,機車加油記錄!$C$7:$C$201,">2010/08/31",機車加油記錄!$C$7:$C$201,"<2010/10/01") -> 0 | O8: =SUMIFS(機車加油記錄!$J$7:$J$201,機車加油記錄!$C$7:$C$201,">2010/09/30",機車加油記錄!$C$7:$C$201,"<2010/11/01") -> 0 | P8: =SUMIFS(機車加油記錄!$J$7:$J$201,機車加油記錄!$C$7:$C$201,">2010/10/31",機車加油記錄!$C$7:$C$201,"<2010/12/01") -> 0 | Q8: =SUMIFS(機車加油記錄!$J$7:$J$201,機車加油記錄!$C$7:$C$201,">2010/11/30",機車加油記錄!$C$7:$C$201,"<2011/01/01") -> 0
A9: 單年節省 機 vs 汽 | B9: 年省 | C9: =C8*12 -> 27609.367 | E9: 2011--加油 | F9: =SUMIFS(機車加油記錄!$G$7:$G$201,機車加油記錄!$C$7:$C$201,">2010/12/31",機車加油記錄!$C$7:$C$201,"<2011/02/01") -> 0 | G9: =SUMIFS(機車加油記錄!$G$7:$G$201,機車加油記錄!$C$7:$C$201,">2011/01/31",機車加油記錄!$C$7:$C$201,"<2011/03/01") -> 140 | H9: =SUMIFS(機車加油記錄!$G$7:$G$201,機車加油記錄!$C$7:$C$201,">2011/02/28",機車加油記錄!$C$7:$C$201,"<2011/04/01") -> 0 | I9: =SUMIFS(機車加油記錄!$G$7:$G$201,機車加油記錄!$C$7:$C$201,">2011/03/31",機車加油記錄!$C$7:$C$201,"<2011/05/01") -> 0 | J9: =SUMIFS(機車加油記錄!$G$7:$G$201,機車加油記錄!$C$7:$C$201,">2011/04/30",機車加油記錄!$C$7:$C$201,"<2011/06/01") -> 0 | K9: =SUMIFS(機車加油記錄!$G$7:$G$201,機車加油記錄!$C$7:$C$201,">2011/05/31",機車加油記錄!$C$7:$C$201,"<2011/07/01") -> 0 | L9: =SUMIFS(機車加油記錄!$G$7:$G$201,機車加油記錄!$C$7:$C$201,">2011/06/30",機車加油記錄!$C$7:$C$201,"<2011/08/01") -> 0 | M9: =SUMIFS(機車加油記錄!$G$7:$G$201,機車加油記錄!$C$7:$C$201,">2011/07/31",機車加油記錄!$C$7:$C$201,"<2011/09/01") -> 0 | N9: =SUMIFS(機車加油記錄!$G$7:$G$201,機車加油記錄!$C$7:$C$201,">2011/08/31",機車加油記錄!$C$7:$C$201,"<2011/10/01") -> 0 | O9: =SUMIFS(機車加油記錄!$G$7:$G$201,機車加油記錄!$C$7:$C$201,">2011/09/30",機車加油記錄!$C$7:$C$201,"<2011/11/01") -> 0 | P9: =SUMIFS(機車加油記錄!$G$7:$G$201,機車加油記錄!$C$7:$C$201,">2011/10/31",機車加油記錄!$C$7:$C$201,"<2011/12/01") -> 0 | Q9: =SUMIFS(機車加油記錄!$G$7:$G$201,機車加油記錄!$C$7:$C$201,">2011/11/30",機車加油記錄!$C$7:$C$201,"<2012/01/01") -> 0 | R9: =(AVERAGEIF(F9:Q9,">0")+AVERAGEIF(F10:Q10,">0")) -> 390
E10: 2011--維護 | F10: =SUMIFS(機車加油記錄!$J$7:$J$201,機車加油記錄!$C$7:$C$201,">2010/12/31",機車加油記錄!$C$7:$C$201,"<2011/02/01") -> 0 | G10: =SUMIFS(機車加油記錄!$J$7:$J$201,機車加油記錄!$C$7:$C$201,">2011/01/31",機車加油記錄!$C$7:$C$201,"<2011/03/01") -> 250 | H10: =SUMIFS(機車加油記錄!$J$7:$J$201,機車加油記錄!$C$7:$C$201,">2011/02/28",機車加油記錄!$C$7:$C$201,"<2011/04/01") -> 0 | I10: =SUMIFS(機車加油記錄!$J$7:$J$201,機車加油記錄!$C$7:$C$201,">2011/03/31",機車加油記錄!$C$7:$C$201,"<2011/05/01") -> 0 | J10: =SUMIFS(機車加油記錄!$J$7:$J$201,機車加油記錄!$C$7:$C$201,">2011/04/30",機車加油記錄!$C$7:$C$201,"<2011/06/01") -> 0 | K10: =SUMIFS(機車加油記錄!$J$7:$J$201,機車加油記錄!$C$7:$C$201,">2011/05/31",機車加油記錄!$C$7:$C$201,"<2011/07/01") -> 0 | L10: =SUMIFS(機車加油記錄!$J$7:$J$201,機車加油記錄!$C$7:$C$201,">2011/06/30",機車加油記錄!$C$7:$C$201,"<2011/08/01") -> 0 | M10: =SUMIFS(機車加油記錄!$J$7:$J$201,機車加油記錄!$C$7:$C$201,">2011/07/31",機車加油記錄!$C$7:$C$201,"<2011/09/01") -> 0 | N10: =SUMIFS(機車加油記錄!$J$7:$J$201,機車加油記錄!$C$7:$C$201,">2011/09/31",機車加油記錄!$C$7:$C$201,"<2011/10/01") -> 0 | O10: =SUMIFS(機車加油記錄!$J$7:$J$201,機車加油記錄!$C$7:$C$201,">2011/09/30",機車加油記錄!$C$7:$C$201,"<2011/11/01") -> 0 | P10: =SUMIFS(機車加油記錄!$J$7:$J$201,機車加油記錄!$C$7:$C$201,">2011/10/31",機車加油記錄!$C$7:$C$201,"<2011/12/01") -> 0 | Q10: =SUMIFS(機車加油記錄!$J$7:$J$201,機車加油記錄!$C$7:$C$201,">2011/11/30",機車加油記錄!$C$7:$C$201,"<2012/01/01") -> 0
E11: 2012--加油 | F11: =SUMIFS(機車加油記錄!$G$7:$G$201,機車加油記錄!$C$7:$C$201,">2011/12/31",機車加油記錄!$C$7:$C$201,"<2012/02/01") -> 0 | G11: =SUMIFS(機車加油記錄!$G$7:$G$201,機車加油記錄!$C$7:$C$201,">2012/01/31",機車加油記錄!$C$7:$C$201,"<2012/03/01") -> 0 | H11: =SUMIFS(機車加油記錄!$G$7:$G$201,機車加油記錄!$C$7:$C$201,">2012/02/29",機車加油記錄!$C$7:$C$201,"<2012/04/01") -> 400 | I11: =SUMIFS(機車加油記錄!$G$7:$G$201,機車加油記錄!$C$7:$C$201,">2012/03/31",機車加油記錄!$C$7:$C$201,"<2012/05/01") -> 533 | J11: =SUMIFS(機車加油記錄!$G$7:$G$201,機車加油記錄!$C$7:$C$201,">2012/04/30",機車加油記錄!$C$7:$C$201,"<2012/06/01") -> 653 | K11: =SUMIFS(機車加油記錄!$G$7:$G$201,機車加油記錄!$C$7:$C$201,">2012/05/31",機車加油記錄!$C$7:$C$201,"<2012/07/01") -> 572 | L11: =SUMIFS(機車加油記錄!$G$7:$G$201,機車加油記錄!$C$7:$C$201,">2012/06/30",機車加油記錄!$C$7:$C$201,"<2012/08/01") -> 472 | M11: =SUMIFS(機車加油記錄!$G$7:$G$201,機車加油記錄!$C$7:$C$201,">2012/07/31",機車加油記錄!$C$7:$C$201,"<2012/09/01") -> 259 | N11: =SUMIFS(機車加油記錄!$G$7:$G$201,機車加油記錄!$C$7:$C$201,">2012/08/31",機車加油記錄!$C$7:$C$201,"<2012/10/01") -> 0 | O11: =SUMIFS(機車加油記錄!$G$7:$G$201,機車加油記錄!$C$7:$C$201,">2012/09/30",機車加油記錄!$C$7:$C$201,"<2012/11/01") -> 0 | P11: =SUMIFS(機車加油記錄!$G$7:$G$201,機車加油記錄!$C$7:$C$201,">2012/10/31",機車加油記錄!$C$7:$C$201,"<2012/12/01") -> 0 | Q11: =SUMIFS(機車加油記錄!$G$7:$G$201,機車加油記錄!$C$7:$C$201,">2012/11/30",機車加油記錄!$C$7:$C$201,"<2013/01/01") -> 0 | R11: =(AVERAGEIF(F11:Q11,">0")+AVERAGEIF(F12:Q12,">0")) -> 1257.9211
E12: 2012--維護 | F12: =SUMIFS(機車加油記錄!$J$7:$J$201,機車加油記錄!$C$7:$C$201,">2011/12/31",機車加油記錄!$C$7:$C$201,"<2012/02/01") -> 0 | G12: =SUMIFS(機車加油記錄!$J$7:$J$201,機車加油記錄!$C$7:$C$201,">2010/01/31",機車加油記錄!$C$7:$C$201,"<2010/03/01") -> 0 | H12: =SUMIFS(機車加油記錄!$J$7:$J$201,機車加油記錄!$C$7:$C$201,">2012/02/29",機車加油記錄!$C$7:$C$201,"<2012/04/01") -> 300 | I12: =SUMIFS(機車加油記錄!$J$7:$J$201,機車加油記錄!$C$7:$C$201,">2012/03/31",機車加油記錄!$C$7:$C$201,"<2012/05/01") -> 566 | J12: =SUMIFS(機車加油記錄!$J$7:$J$201,機車加油記錄!$C$7:$C$201,">2012/04/30",機車加油記錄!$C$7:$C$201,"<2012/06/01") -> 1463.2632 | K12: =SUMIFS(機車加油記錄!$J$7:$J$201,機車加油記錄!$C$7:$C$201,">2012/05/31",機車加油記錄!$C$7:$C$201,"<2012/07/01") -> 0 | L12: =SUMIFS(機車加油記錄!$J$7:$J$201,機車加油記錄!$C$7:$C$201,">2012/06/30",機車加油記錄!$C$7:$C$201,"<2012/08/01") -> 0 | M12: =SUMIFS(機車加油記錄!$J$7:$J$201,機車加油記錄!$C$7:$C$201,">2012/07/31",機車加油記錄!$C$7:$C$201,"<2012/09/01") -> 0 | N12: =SUMIFS(機車加油記錄!$J$7:$J$201,機車加油記錄!$C$7:$C$201,">2012/09/31",機車加油記錄!$C$7:$C$201,"<2012/10/01") -> 0 | O12: =SUMIFS(機車加油記錄!$J$7:$J$201,機車加油記錄!$C$7:$C$201,">2012/09/30",機車加油記錄!$C$7:$C$201,"<2012/11/01") -> 0 | P12: =SUMIFS(機車加油記錄!$J$7:$J$201,機車加油記錄!$C$7:$C$201,">2012/10/31",機車加油記錄!$C$7:$C$201,"<2012/12/01") -> 0 | Q12: =SUMIFS(機車加油記錄!$J$7:$J$201,機車加油記錄!$C$7:$C$201,">2012/11/30",機車加油記錄!$C$7:$C$201,"<2013/01/01") -> 0
F17: 汽車單月實際油資及維護支出
E18: 時間 | F18: 一月份 | G18: 二月份 | H18: 三月份 | I18: 四月份 | J18: 五月份 | K18: 六月份 | L18: 七月份 | M18: 八月份 | N18: 九月份 | O18: 十月份 | P18: 十一月份 | Q18: 十二月份 | R18: 平均月支出
E19: 2010--加油 | F19: =SUMIFS(汽車加油記錄!$G$7:$G$200,汽車加油記錄!$C$7:$C$200,">2009/12/31",汽車加油記錄!$C$7:$C$200,"<2010/02/01") -> 852 | G19: =SUMIFS(汽車加油記錄!$G$7:$G$200,汽車加油記錄!$C$7:$C$200,">2010/01/31",汽車加油記錄!$C$7:$C$200,"<2010/03/01") -> 0 | H19: =SUMIFS(汽車加油記錄!$G$7:$G$200,汽車加油記錄!$C$7:$C$200,">2010/02/28",汽車加油記錄!$C$7:$C$200,"<2010/04/01") -> 0 | I19: =SUMIFS(汽車加油記錄!$G$7:$G$200,汽車加油記錄!$C$7:$C$200,">2010/03/31",汽車加油記錄!$C$7:$C$200,"<2010/05/01") -> 0 | J19: =SUMIFS(汽車加油記錄!$G$7:$G$200,汽車加油記錄!$C$7:$C$200,">2010/04/30",汽車加油記錄!$C$7:$C$200,"<2010/06/01") -> 0 | K19: =SUMIFS(汽車加油記錄!$G$7:$G$200,汽車加油記錄!$C$7:$C$200,">2010/05/31",汽車加油記錄!$C$7:$C$200,"<2010/07/01") -> 0 | L19: =SUMIFS(汽車加油記錄!$G$7:$G$200,汽車加油記錄!$C$7:$C$200,">2010/06/30",汽車加油記錄!$C$7:$C$200,"<2010/08/01") -> 0 | M19: =SUMIFS(汽車加油記錄!$G$7:$G$200,汽車加油記錄!$C$7:$C$200,">2010/07/31",汽車加油記錄!$C$7:$C$200,"<2010/09/01") -> 0 | N19: =SUMIFS(汽車加油記錄!$G$7:$G$200,汽車加油記錄!$C$7:$C$200,">2010/08/31",汽車加油記錄!$C$7:$C$200,"<2010/10/01") -> 0 | O19: =SUMIFS(汽車加油記錄!$G$7:$G$200,汽車加油記錄!$C$7:$C$200,">2010/09/30",汽車加油記錄!$C$7:$C$200,"<2010/11/01") -> 0 | P19: =SUMIFS(汽車加油記錄!$G$7:$G$200,汽車加油記錄!$C$7:$C$200,">2010/10/31",汽車加油記錄!$C$7:$C$200,"<2010/12/01") -> 0 | Q19: =SUMIFS(汽車加油記錄!$G$7:$G$200,汽車加油記錄!$C$7:$C$200,">2010/11/30",汽車加油記錄!$C$7:$C$200,"<2011/01/01") -> 0 | R19: =(AVERAGEIF(F19:Q19,">0")+AVERAGEIF(F20:Q20,">0")) -> 1852
E20: 2010--維護 | F20: =SUMIFS(汽車加油記錄!$J$7:$J$200,汽車加油記錄!$C$7:$C$200,">2009/12/31",汽車加油記錄!$C$7:$C$200,"<2010/02/01") -> 1000 | G20: =SUMIFS(汽車加油記錄!$J$7:$J$200,汽車加油記錄!$C$7:$C$200,">2010/01/31",汽車加油記錄!$C$7:$C$200,"<2010/03/01") -> 0 | H20: =SUMIFS(汽車加油記錄!$J$7:$J$200,汽車加油記錄!$C$7:$C$200,">2010/02/28",汽車加油記錄!$C$7:$C$200,"<2010/04/01") -> 0 | I20: =SUMIFS(汽車加油記錄!$J$7:$J$200,汽車加油記錄!$C$7:$C$200,">2010/03/31",汽車加油記錄!$C$7:$C$200,"<2010/05/01") -> 0 | J20: =SUMIFS(汽車加油記錄!$J$7:$J$200,汽車加油記錄!$C$7:$C$200,">2010/04/30",汽車加油記錄!$C$7:$C$200,"<2010/06/01") -> 0 | K20: =SUMIFS(汽車加油記錄!$J$7:$J$200,汽車加油記錄!$C$7:$C$200,">2010/05/31",汽車加油記錄!$C$7:$C$200,"<2010/07/01") -> 0 | L20: =SUMIFS(汽車加油記錄!$J$7:$J$200,汽車加油記錄!$C$7:$C$200,">2009/06/30",汽車加油記錄!$C$7:$C$200,"<2009/08/01") -> 0 | M20: =SUMIFS(汽車加油記錄!$J$7:$J$200,汽車加油記錄!$C$7:$C$200,">2010/07/31",汽車加油記錄!$C$7:$C$200,"<2010/09/01") -> 0 | N20: =SUMIFS(汽車加油記錄!$J$7:$J$200,汽車加油記錄!$C$7:$C$200,">2010/08/31",汽車加油記錄!$C$7:$C$200,"<2010/10/01") -> 0 | O20: =SUMIFS(汽車加油記錄!$J$7:$J$200,汽車加油記錄!$C$7:$C$200,">2010/09/30",汽車加油記錄!$C$7:$C$200,"<2010/11/01") -> 0 | P20: =SUMIFS(汽車加油記錄!$J$7:$J$200,汽車加油記錄!$C$7:$C$200,">2010/10/31",汽車加油記錄!$C$7:$C$200,"<2010/12/01") -> 0 | Q20: =SUMIFS(汽車加油記錄!$J$7:$J$200,汽車加油記錄!$C$7:$C$200,">2010/11/30",汽車加油記錄!$C$7:$C$200,"<2011/01/01") -> 0
E21: 2011--加油 | F21: =SUMIFS(汽車加油記錄!$G$7:$G$200,汽車加油記錄!$C$7:$C$200,">2010/12/31",汽車加油記錄!$C$7:$C$200,"<2011/02/01") -> 0 | G21: =SUMIFS(汽車加油記錄!$G$7:$G$200,汽車加油記錄!$C$7:$C$200,">2011/01/31",汽車加油記錄!$C$7:$C$200,"<2011/03/01") -> 966 | H21: =SUMIFS(汽車加油記錄!$G$7:$G$200,汽車加油記錄!$C$7:$C$200,">2011/02/28",汽車加油記錄!$C$7:$C$200,"<2011/04/01") -> 0 | I21: =SUMIFS(汽車加油記錄!$G$7:$G$200,汽車加油記錄!$C$7:$C$200,">2011/03/31",汽車加油記錄!$C$7:$C$200,"<2011/05/01") -> 0 | J21: =SUMIFS(汽車加油記錄!$G$7:$G$200,汽車加油記錄!$C$7:$C$200,">2011/04/30",汽車加油記錄!$C$7:$C$200,"<2011/06/01") -> 0 | K21: =SUMIFS(汽車加油記錄!$G$7:$G$200,汽車加油記錄!$C$7:$C$200,">2011/05/31",汽車加油記錄!$C$7:$C$200,"<2011/07/01") -> 0 | L21: =SUMIFS(汽車加油記錄!$G$7:$G$200,汽車加油記錄!$C$7:$C$200,">2011/06/30",汽車加油記錄!$C$7:$C$200,"<2011/08/01") -> 0 | M21: =SUMIFS(汽車加油記錄!$G$7:$G$200,汽車加油記錄!$C$7:$C$200,">2011/07/31",汽車加油記錄!$C$7:$C$200,"<2011/09/01") -> 0 | N21: =SUMIFS(汽車加油記錄!$G$7:$G$200,汽車加油記錄!$C$7:$C$200,">2011/08/31",汽車加油記錄!$C$7:$C$200,"<2011/10/01") -> 0 | O21: =SUMIFS(汽車加油記錄!$G$7:$G$200,汽車加油記錄!$C$7:$C$200,">2011/09/30",汽車加油記錄!$C$7:$C$200,"<2011/11/01") -> 0 | P21: =SUMIFS(汽車加油記錄!$G$7:$G$200,汽車加油記錄!$C$7:$C$200,">2011/10/31",汽車加油記錄!$C$7:$C$200,"<2011/12/01") -> 0 | Q21: =SUMIFS(汽車加油記錄!$G$7:$G$200,汽車加油記錄!$C$7:$C$200,">2011/11/30",汽車加油記錄!$C$7:$C$200,"<2012/01/01") -> 0 | R21: =(AVERAGEIF(F21:Q21,">0")+AVERAGEIF(F22:Q22,">0")) -> 1071
E22: 2011--維護 | F22: =SUMIFS(汽車加油記錄!$J$7:$J$200,汽車加油記錄!$C$7:$C$200,">2010/12/31",汽車加油記錄!$C$7:$C$200,"<2011/02/01") -> 0 | G22: =SUMIFS(汽車加油記錄!$J$7:$J$200,汽車加油記錄!$C$7:$C$200,">2011/01/31",汽車加油記錄!$C$7:$C$200,"<2011/03/01") -> 105 | H22: =SUMIFS(汽車加油記錄!$J$7:$J$200,汽車加油記錄!$C$7:$C$200,">2011/02/28",汽車加油記錄!$C$7:$C$200,"<2011/04/01") -> 0 | I22: =SUMIFS(汽車加油記錄!$J$7:$J$200,汽車加油記錄!$C$7:$C$200,">2011/03/31",汽車加油記錄!$C$7:$C$200,"<2011/05/01") -> 0 | J22: =SUMIFS(汽車加油記錄!$J$7:$J$200,汽車加油記錄!$C$7:$C$200,">2011/04/30",汽車加油記錄!$C$7:$C$200,"<2011/06/01") -> 0 | K22: =SUMIFS(汽車加油記錄!$J$7:$J$200,汽車加油記錄!$C$7:$C$200,">2011/05/31",汽車加油記錄!$C$7:$C$200,"<2011/07/01") -> 0 | L22: =SUMIFS(汽車加油記錄!$J$7:$J$200,汽車加油記錄!$C$7:$C$200,">2011/06/30",汽車加油記錄!$C$7:$C$200,"<2011/08/01") -> 0 | M22: =SUMIFS(汽車加油記錄!$J$7:$J$200,汽車加油記錄!$C$7:$C$200,">2011/07/31",汽車加油記錄!$C$7:$C$200,"<2011/09/01") -> 0 | N22: =SUMIFS(汽車加油記錄!$J$7:$J$200,汽車加油記錄!$C$7:$C$200,">2011/08/31",汽車加油記錄!$C$7:$C$200,"<2011/10/01") -> 0 | O22: =SUMIFS(汽車加油記錄!$J$7:$J$200,汽車加油記錄!$C$7:$C$200,">2011/09/30",汽車加油記錄!$C$7:$C$200,"<2011/11/01") -> 0 | P22: =SUMIFS(汽車加油記錄!$J$7:$J$200,汽車加油記錄!$C$7:$C$200,">2011/10/31",汽車加油記錄!$C$7:$C$200,"<2011/12/01") -> 0 | Q22: =SUMIFS(汽車加油記錄!$J$7:$J$200,汽車加油記錄!$C$7:$C$200,">2011/11/30",汽車加油記錄!$C$7:$C$200,"<2012/01/01") -> 0
E23: 2012--加油 | F23: =SUMIFS(汽車加油記錄!$G$7:$G$200,汽車加油記錄!$C$7:$C$200,">2011/12/31",汽車加油記錄!$C$7:$C$200,"<2012/02/01") -> 0 | G23: =SUMIFS(汽車加油記錄!$G$7:$G$200,汽車加油記錄!$C$7:$C$200,">2012/01/31",汽車加油記錄!$C$7:$C$200,"<2012/03/01") -> 834 | H23: =SUMIFS(汽車加油記錄!$G$7:$G$200,汽車加油記錄!$C$7:$C$200,">2012/02/29",汽車加油記錄!$C$7:$C$200,"<2012/04/01") -> 1757 | I23: =SUMIFS(汽車加油記錄!$G$7:$G$200,汽車加油記錄!$C$7:$C$200,">2012/03/31",汽車加油記錄!$C$7:$C$200,"<2012/05/01") -> 1652 | J23: =SUMIFS(汽車加油記錄!$G$7:$G$200,汽車加油記錄!$C$7:$C$200,">2012/04/30",汽車加油記錄!$C$7:$C$200,"<2012/06/01") -> 1653 | K23: =SUMIFS(汽車加油記錄!$G$7:$G$200,汽車加油記錄!$C$7:$C$200,">2012/05/31",汽車加油記錄!$C$7:$C$200,"<2012/07/01") -> 1749 | L23: =SUMIFS(汽車加油記錄!$G$7:$G$200,汽車加油記錄!$C$7:$C$200,">2012/06/30",汽車加油記錄!$C$7:$C$200,"<2012/08/01") -> 1581 | M23: =SUMIFS(汽車加油記錄!$G$7:$G$200,汽車加油記錄!$C$7:$C$200,">2012/07/31",汽車加油記錄!$C$7:$C$200,"<2012/09/01") -> 701 | N23: =SUMIFS(汽車加油記錄!$G$7:$G$200,汽車加油記錄!$C$7:$C$200,">2012/08/31",汽車加油記錄!$C$7:$C$200,"<2012/10/01") -> 0 | O23: =SUMIFS(汽車加油記錄!$G$7:$G$200,汽車加油記錄!$C$7:$C$200,">2012/09/30",汽車加油記錄!$C$7:$C$200,"<2012/11/01") -> 0 | P23: =SUMIFS(汽車加油記錄!$G$7:$G$200,汽車加油記錄!$C$7:$C$200,">2012/10/31",汽車加油記錄!$C$7:$C$200,"<2012/12/01") -> 0 | Q23: =SUMIFS(汽車加油記錄!$G$7:$G$200,汽車加油記錄!$C$7:$C$200,">2012/11/30",汽車加油記錄!$C$7:$C$200,"<2013/01/01") -> 0 | R23: =(AVERAGEIF(F23:Q23,">0")+AVERAGEIF(F24:Q24,">0")) -> 4418.1429
E24: 2012--維護 | F24: =SUMIFS(汽車加油記錄!$J$7:$J$200,汽車加油記錄!$C$7:$C$200,">2011/12/31",汽車加油記錄!$C$7:$C$200,"<2012/02/01") -> 0 | G24: =SUMIFS(汽車加油記錄!$J$7:$J$200,汽車加油記錄!$C$7:$C$200,">2012/01/31",汽車加油記錄!$C$7:$C$200,"<2012/03/01") -> 3000 | H24: =SUMIFS(汽車加油記錄!$J$7:$J$200,汽車加油記錄!$C$7:$C$200,">2012/02/29",汽車加油記錄!$C$7:$C$200,"<2012/04/01") -> 0 | I24: =SUMIFS(汽車加油記錄!$J$7:$J$200,汽車加油記錄!$C$7:$C$200,">2012/03/31",汽車加油記錄!$C$7:$C$200,"<2012/05/01") -> 0 | J24: =SUMIFS(汽車加油記錄!$J$7:$J$200,汽車加油記錄!$C$7:$C$200,">2012/04/30",汽車加油記錄!$C$7:$C$200,"<2012/06/01") -> 0 | K24: =SUMIFS(汽車加油記錄!$J$7:$J$200,汽車加油記錄!$C$7:$C$200,">2012/05/31",汽車加油記錄!$C$7:$C$200,"<2012/07/01") -> 0 | L24: =SUMIFS(汽車加油記錄!$J$7:$J$200,汽車加油記錄!$C$7:$C$200,">2012/06/30",汽車加油記錄!$C$7:$C$200,"<2012/08/01") -> 0 | M24: =SUMIFS(汽車加油記錄!$J$7:$J$200,汽車加油記錄!$C$7:$C$200,">2012/07/31",汽車加油記錄!$C$7:$C$200,"<2012/09/01") -> 0 | N24: =SUMIFS(汽車加油記錄!$J$7:$J$200,汽車加油記錄!$C$7:$C$200,">2012/08/31",汽車加油記錄!$C$7:$C$200,"<2012/10/01") -> 0 | O24: =SUMIFS(汽車加油記錄!$J$7:$J$200,汽車加油記錄!$C$7:$C$200,">2012/09/30",汽車加油記錄!$C$7:$C$200,"<2012/11/01") -> 0 | P24: =SUMIFS(汽車加油記錄!$J$7:$J$200,汽車加油記錄!$C$7:$C$200,">2012/10/31",汽車加油記錄!$C$7:$C$200,"<2012/12/01") -> 0 | Q24: =SUMIFS(汽車加油記錄!$J$7:$J$200,汽車加油記錄!$C$7:$C$200,">2012/11/30",汽車加油記錄!$C$7:$C$200,"<2013/01/01") -> 0

Sheet 機車加油記錄
C1: 機車加油記錄 --- XXXX + 95汽油
A2: 誤差參數 | C2: 最佳紀錄 | D2: 最差紀錄 | E2: 總加油量 ( 升) | F2: 平均開銷 （月） | H2: 總 計 ( 行進公里數 ) | I2: 紀錄總平均 ( 公里 / 升) | J2: 前 10 優 平均 | N2: 平均成本 （NT / 公里） | O2: 前 10 劣 平均 | P2: 累積總平均
A3: =17.5/19.35 -> 0.90439276 | C3: =MAX($I4:$I202) -> 50.383998 | D3: =MIN($I4:$I202) -> 35.466383 | E3: =SUM($E7:$E201) -> 107.26 | F3: =AVERAGEIF(汽車vs機車!R7:R10,">0") -> 285.52632 | H3: =SUM(H8:H201) -> 4209.9483 | I3: =ROUND(($H3/$E3),2) -> 39.25 | J3: =(LARGE($I8:$I202,1)+LARGE($I8:$I202,2)+LARGE($I8:$I202,3)+LARGE($I8:$I202,4)+LARGE($I8:$I202,5)+LARGE($I8:$I202,6)+LARGE($I8:$I202,7)+LARGE($I8:$I202,8)+LARGE($I8:$I202,9)+LARGE($I8:$I202,10))/10 -> 45.856343 | N3: =AVERAGEIF(N8:N201,">0") -> 1.3378261 | O3: =(SMALL($I8:$I202,1)+SMALL($I8:$I202,2)+SMALL($I8:$I202,3)+SMALL($I8:$I202,4)+SMALL($I8:$I202,5)+SMALL($I8:$I202,6)+SMALL($I8:$I202,7)+SMALL($I8:$I202,8)+SMALL($I8:$I202,9)+SMALL($I8:$I202,10))/10 -> 37.899423 | P3: =AVERAGE(I7:I1000) -> 41.946818
A5: 95 | B5: 95 | C5: XXXX + 95
A6: 當日 油價 | B6: 當日 折扣 | C6: 加油日期 (每週三) | D6: 里程表數 | E6: 公升數 | F6: 標準 油資 | G6: 折扣後金額 （台塑） | H6: 實際行進里數 | I6: 油耗估算 | J6: 保養費用 / (含添加劑成本） | O6: 保養記錄 / 備註
A7: 30.5 | B7: 2.1 | C7: 40179 | D7: 5 | E7: 6 | F7: =ROUND(E7*A7,0) -> 183 | G7: =ROUND(E7*A7,0)-ROUND(E7*B7,0) -> 170 | J7: =105/475*50 -> 11.052632 | K7: =$J$3 -> 45.856343 | L7: =$O$3 -> 37.899423 | M7: =$P$3 -> 41.946818 | O7: 加汽油精 50cc
A8: 30.3 | B8: 2.5 | C8: 40599 | D8: 218 | E8: 5.05 | F8: =ROUND(E8*A8,0) -> 153 | G8: =ROUND(E8*A8,0)-ROUND(E8*B8,0) -> 140 | H8: =IF($D8=0,"0",(D8-D7)*$A$3) -> 192.63566 | I8: =IF($D8=0,"0",(H8/E8)) -> 38.145675 | J8: 250 | K8: =$J$3 -> 45.856343 | L8: =$O$3 -> 37.899423 | M8: =$P$3 -> 41.946818 | N8: =IF($D8=0,"0",ROUNDUP(((G8/H8)+SUM($J$8:$J$201)/SUM($H$8:$H$201)),2)) -> 1.34
A9: 29.8 | B9: 0 | C9: 40983 | D9: 410 | E9: 4.4 | F9: =ROUND(E9*A9,0) -> 131 | G9: =ROUND(E9*A9,0)-ROUND(E9*B9,0) -> 131 | H9: =IF($D9=0,"0",(D9-D8)*$A$3) -> 173.64341 | I9: =IF($D9=0,"0",(H9/E9)) -> 39.464412 | J9: =250+50 -> 300 | K9: =$J$3 -> 45.856343 | L9: =$O$3 -> 37.899423 | M9: =$P$3 -> 41.946818 | N9: =IF($D9=0,"0",ROUNDUP(((G9/H9)+SUM($J$8:$J$201)/SUM($H$8:$H$201)),2)) -> 1.37 | O9: 機油：250 , 齒輪油：50
A10: 30.5 | B10: 2 | C10: =C9+7 -> 40990 | D10: 610 | E10: 5 | F10: =ROUND(E10*A10,0) -> 153 | G10: =ROUND(E10*A10,0)-ROUND(E10*B10,0) -> 143 | H10: =IF($D10=0,"0",(D10-D9)*$A$3) -> 180.87855 | I10: =IF($D10=0,"0",(H10/E10)) -> 36.175711 | K10: =$J$3 -> 45.856343 | L10: =$O$3 -> 37.899423 | M10: =$P$3 -> 41.946818 | N10: =IF($D10=0,"0",ROUNDUP(((G10/H10)+SUM($J$8:$J$201)/SUM($H$8:$H$201)),2)) -> 1.41
A11: 30.7 | B11: 0 | C11: =C10+7 -> 40997 | D11: 810 | E11: 4.11 | F11: =ROUND(E11*A11,0) -> 126 | G11: =ROUND(E11*A11,0)-ROUND(E11*B11,0) -> 126 | H11: =IF($D11=0,"0",(D11-D10)*$A$3) -> 180.87855 | I11: =IF($D11=0,"0",(H11/E11)) -> 44.00938 | K11: =$J$3 -> 45.856343 | L11: =$O$3 -> 37.899423 | M11: =$P$3 -> 41.946818 | N11: =IF($D11=0,"0",ROUNDUP(((G11/H11)+SUM($J$8:$J$201)/SUM($H$8:$H$201)),2)) -> 1.31
A12: 30.3 | B12: 2 | C12: =C11+7 -> 41004 | D12: 1000 | E12: 4.15 | F12: =ROUND(E12*A12,0) -> 126 | G12: =ROUND(E12*A12,0)-ROUND(E12*B12,0) -> 118 | H12: =IF($D12=0,"0",(D12-D11)*$A$3) -> 171.83463 | I12: =IF($D12=0,"0",(H12/E12)) -> 41.405934 | J12: =500+66 -> 566 | K12: =$J$3 -> 45.856343 | L12: =$O$3 -> 37.899423 | M12: =$P$3 -> 41.946818 | N12: =IF($D12=0,"0",ROUNDUP(((G12/H12)+SUM($J$8:$J$201)/SUM($H$8:$H$201)),2)) -> 1.3
A13: 30.9 | B13: 2.1 | C13: =C12+7 -> 41011 | D13: 1210 | E13: 5.1 | F13: =ROUND(E13*A13,0) -> 158 | G13: =ROUND(E13*A13,0)-ROUND(E13*B13,0) -> 147 | H13: =IF($D13=0,"0",(D13-D12)*$A$3) -> 189.92248 | I13: =IF($D13=0,"0",(H13/E13)) -> 37.239702 | K13: =$J$3 -> 45.856343 | L13: =$O$3 -> 37.899423 | M13: =$P$3 -> 41.946818 | N13: =IF($D13=0,"0",ROUNDUP(((G13/H13)+SUM($J$8:$J$201)/SUM($H$8:$H$201)),2)) -> 1.39
A14: 31.1 | B14: 2.5 | C14: =C13+7 -> 41018 | D14: 1440 | E14: 4.45 | F14: =ROUND(E14*A14,0) -> 138 | G14: =ROUND(E14*A14,0)-ROUND(E14*B14,0) -> 127 | H14: =IF($D14=0,"0",(D14-D13)*$A$3) -> 208.01034 | I14: =IF($D14=0,"0",(H14/E14)) -> 46.743896 | K14: =$J$3 -> 45.856343 | L14: =$O$3 -> 37.899423 | M14: =$P$3 -> 41.946818 | N14: =IF($D14=0,"0",ROUNDUP(((G14/H14)+SUM($J$8:$J$201)/SUM($H$8:$H$201)),2)) -> 1.23
A15: 30.7 | B15: 0 | C15: =C14+7 -> 41025 | D15: 1660 | E15: 4.6 | F15: =ROUND(E15*A15,0) -> 141 | G15: =ROUND(E15*A15,0)-ROUND(E15*B15,0) -> 141 | H15: =IF($D15=0,"0",(D15-D14)*$A$3) -> 198.96641 | I15: =IF($D15=0,"0",(H15/E15)) -> 43.253567 | K15: =$J$3 -> 45.856343 | L15: =$O$3 -> 37.899423 | M15: =$P$3 -> 41.946818 | N15: =IF($D15=0,"0",ROUNDUP(((G15/H15)+SUM($J$8:$J$201)/SUM($H$8:$H$201)),2)) -> 1.33
A16: 30.5 | B16: 2 | C16: =C15+7 -> 41032 | D16: 1860 | E16: 4.55 | F16: =ROUND(E16*A16,0) -> 139 | G16: =ROUND(E16*A16,0)-ROUND(E16*B16,0) -> 130 | H16: =IF($D16=0,"0",(D16-D15)*$A$3) -> 180.87855 | I16: =IF($D16=0,"0",(H16/E16)) -> 39.753528 | J16: =1450+105/475*60 -> 1463.2632 | K16: =$J$3 -> 45.856343 | L16: =$O$3 -> 37.899423 | M16: =$P$3 -> 41.946818 | N16: =IF($D16=0,"0",ROUNDUP(((G16/H16)+SUM($J$8:$J$201)/SUM($H$8:$H$201)),2)) -> 1.34 | O16: 換ML50後輪(1450+汽油精）
A17: 30.5 | C17: =C16+7 -> 41039 | D17: =D16+200 -> 2060 | E17: 4.1 | F17: =ROUND(E17*A17,0) -> 125 | G17: =ROUND(E17*A17,0)-ROUND(E17*B17,0) -> 125 | H17: =IF($D17=0,"0",(D17-D16)*$A$3) -> 180.87855 | I17: =IF($D17=0,"0",(H17/E17)) -> 44.11672 | K17: =$J$3 -> 45.856343 | L17: =$O$3 -> 37.899423 | M17: =$P$3 -> 41.946818 | N17: =IF($D17=0,"0",ROUNDUP(((G17/H17)+SUM($J$8:$J$201)/SUM($H$8:$H$201)),2)) -> 1.31
A18: 30.5 | C18: =C17+7 -> 41046 | D18: =D17+200 -> 2260 | E18: 3.9 | F18: =ROUND(E18*A18,0) -> 119 | G18: =ROUND(E18*A18,0)-ROUND(E18*B18,0) -> 119 | H18: =IF($D18=0,"0",(D18-D17)*$A$3) -> 180.87855 | I18: =IF($D18=0,"0",(H18/E18)) -> 46.379116 | K18: =$J$3 -> 45.856343 | L18: =$O$3 -> 37.899423 | M18: =$P$3 -> 41.946818 | N18: =IF($D18=0,"0",ROUNDUP(((G18/H18)+SUM($J$8:$J$201)/SUM($H$8:$H$201)),2)) -> 1.28
A19: 30.5 | C19: =C18+7 -> 41053 | D19: =D18+200 -> 2460 | E19: 4.25 | F19: =ROUND(E19*A19,0) -> 130 | G19: =ROUND(E19*A19,0)-ROUND(E19*B19,0) -> 130 | H19: =IF($D19=0,"0",(D19-D18)*$A$3) -> 180.87855 | I19: =IF($D19=0,"0",(H19/E19)) -> 42.55966 | K19: =$J$3 -> 45.856343 | L19: =$O$3 -> 37.899423 | M19: =$P$3 -> 41.946818 | N19: =IF($D19=0,"0",ROUNDUP(((G19/H19)+SUM($J$8:$J$201)/SUM($H$8:$H$201)),2)) -> 1.34
A20: 30.5 | C20: =C19+7 -> 41060 | D20: =D19+200 -> 2660 | E20: 4.88 | F20: =ROUND(E20*A20,0) -> 149 | G20: =ROUND(E20*A20,0)-ROUND(E20*B20,0) -> 149 | H20: =IF($D20=0,"0",(D20-D19)*$A$3) -> 180.87855 | I20: =IF($D20=0,"0",(H20/E20)) -> 37.065277 | K20: =$J$3 -> 45.856343 | L20: =$O$3 -> 37.899423 | M20: =$P$3 -> 41.946818 | N20: =IF($D20=0,"0",ROUNDUP(((G20/H20)+SUM($J$8:$J$201)/SUM($H$8:$H$201)),2)) -> 1.44
A21: 30.5 | C21: =C20+7 -> 41067 | D21: =D20+200 -> 2860 | E21: 4.7 | F21: =ROUND(E21*A21,0) -> 143 | G21: =ROUND(E21*A21,0)-ROUND(E21*B21,0) -> 143 | H21: =IF($D21=0,"0",(D21-D20)*$A$3) -> 180.87855 | I21: =IF($D21=0,"0",(H21/E21)) -> 38.484799 | K21: =$J$3 -> 45.856343 | L21: =$O$3 -> 37.899423 | M21: =$P$3 -> 41.946818 | N21: =IF($D21=0,"0",ROUNDUP(((G21/H21)+SUM($J$8:$J$201)/SUM($H$8:$H$201)),2)) -> 1.41
A22: 30.5 | C22: =C21+7 -> 41074 | D22: =D21+200 -> 3060 | E22: 4.05 | F22: =ROUND(E22*A22,0) -> 124 | G22: =ROUND(E22*A22,0)-ROUND(E22*B22,0) -> 124 | H22: =IF($D22=0,"0",(D22-D21)*$A$3) -> 180.87855 | I22: =IF($D22=0,"0",(H22/E22)) -> 44.661371 | K22: =$J$3 -> 45.856343 | L22: =$O$3 -> 37.899423 | M22: =$P$3 -> 41.946818 | N22: =IF($D22=0,"0",ROUNDUP(((G22/H22)+SUM($J$8:$J$201)/SUM($H$8:$H$201)),2)) -> 1.3
A23: 30.5 | C23: =C22+7 -> 41081 | D23: =D22+200 -> 3260 | E23: 4.9 | F23: =ROUND(E23*A23,0) -> 149 | G23: =ROUND(E23*A23,0)-ROUND(E23*B23,0) -> 149 | H23: =IF($D23=0,"0",(D23-D22)*$A$3) -> 180.87855 | I23: =IF($D23=0,"0",(H23/E23)) -> 36.91399 | K23: =$J$3 -> 45.856343 | L23: =$O$3 -> 37.899423 | M23: =$P$3 -> 41.946818 | N23: =IF($D23=0,"0",ROUNDUP(((G23/H23)+SUM($J$8:$J$201)/SUM($H$8:$H$201)),2)) -> 1.44
A24: 30.5 | C24: =C23+7 -> 41088 | D24: =D23+200 -> 3460 | E24: 5.1 | F24: =ROUND(E24*A24,0) -> 156 | G24: =ROUND(E24*A24,0)-ROUND(E24*B24,0) -> 156 | H24: =IF($D24=0,"0",(D24-D23)*$A$3) -> 180.87855 | I24: =IF($D24=0,"0",(H24/E24)) -> 35.466383 | K24: =$J$3 -> 45.856343 | L24: =$O$3 -> 37.899423 | M24: =$P$3 -> 41.946818 | N24: =IF($D24=0,"0",ROUNDUP(((G24/H24)+SUM($J$8:$J$201)/SUM($H$8:$H$201)),2)) -> 1.48
A25: 30.5 | C25: =C24+7 -> 41095 | D25: =D24+200 -> 3660 | E25: 4 | F25: =ROUND(E25*A25,0) -> 122 | G25: =ROUND(E25*A25,0)-ROUND(E25*B25,0) -> 122 | H25: =IF($D25=0,"0",(D25-D24)*$A$3) -> 180.87855 | I25: =IF($D25=0,"0",(H25/E25)) -> 45.219638 | K25: =$J$3 -> 45.856343 | L25: =$O$3 -> 37.899423 | M25: =$P$3 -> 41.946818 | N25: =IF($D25=0,"0",ROUNDUP(((G25/H25)+SUM($J$8:$J$201)/SUM($H$8:$H$201)),2)) -> 1.29
A26: 30.5 | C26: =C25+7 -> 41102 | D26: =D25+200 -> 3860 | E26: 3.8 | F26: =ROUND(E26*A26,0) -> 116 | G26: =ROUND(E26*A26,0)-ROUND(E26*B26,0) -> 116 | H26: =IF($D26=0,"0",(D26-D25)*$A$3) -> 180.87855 | I26: =IF($D26=0,"0",(H26/E26)) -> 47.599619 | K26: =$J$3 -> 45.856343 | L26: =$O$3 -> 37.899423 | M26: =$P$3 -> 41.946818 | N26: =IF($D26=0,"0",ROUNDUP(((G26/H26)+SUM($J$8:$J$201)/SUM($H$8:$H$201)),2)) -> 1.26
A27: 30.5 | C27: =C26+7 -> 41109 | D27: =D26+200 -> 4060 | E27: 4.1 | F27: =ROUND(E27*A27,0) -> 125 | G27: =ROUND(E27*A27,0)-ROUND(E27*B27,0) -> 125 | H27: =IF($D27=0,"0",(D27-D26)*$A$3) -> 180.87855 | I27: =IF($D27=0,"0",(H27/E27)) -> 44.11672 | K27: =$J$3 -> 45.856343 | L27: =$O$3 -> 37.899423 | M27: =$P$3 -> 41.946818 | N27: =IF($D27=0,"0",ROUNDUP(((G27/H27)+SUM($J$8:$J$201)/SUM($H$8:$H$201)),2)) -> 1.31
A28: 30.5 | C28: =C27+7 -> 41116 | D28: =D27+200 -> 4260 | E28: 3.59 | F28: =ROUND(E28*A28,0) -> 109 | G28: =ROUND(E28*A28,0)-ROUND(E28*B28,0) -> 109 | H28: =IF($D28=0,"0",(D28-D27)*$A$3) -> 180.87855 | I28: =IF($D28=0,"0",(H28/E28)) -> 50.383998 | K28: =$J$3 -> 45.856343 | L28: =$O$3 -> 37.899423 | M28: =$P$3 -> 41.946818 | N28: =IF($D28=0,"0",ROUNDUP(((G28/H28)+SUM($J$8:$J$201)/SUM($H$8:$H$201)),2)) -> 1.22
... A30: 30.5 | C30: =C29+7 -> 41130 | D30: =D29+200 -> 4660 | E30: 3.99 | F30: =ROUND(E30*A30,0) -> 122 | G30: =ROUND(E30*A30,0)-ROUND(E30*B30,0) -> 122 | H30: =IF($D30=0,"0",(D30-D29)*$A$3) -> 180.87855 | I30: =IF($D30=0,"0",(H30/E30)) -> 45.332971 | K30: =$J$3 -> 45.856343 | L30: =$O$3 -> 37.899423 | M30: =$P$3 -> 41.946818 | N30: =IF($D30=0,"0",ROUNDUP(((G30/H30)+SUM($J$8:$J$201)/SUM($H$8:$H$201)),2)) -> 1.29
C31: =C30+7 -> 41137 | F31: =ROUND(E31*A31,0) -> 0 | G31: =ROUND(E31*A31,0)-ROUND(E31*B31,0) -> 0 | H31: =IF($D31=0,"0",(D31-D30)*$A$3) -> 0 | I31: =IF($D31=0,"0",(H31/E31)) -> 0 | K31: =$J$3 -> 45.856343 | L31: =$O$3 -> 37.899423 | M31: =$P$3 -> 41.946818 | N31: =IF($D31=0,"0",ROUNDUP(((G31/H31)+SUM($J$8:$J$201)/SUM($H$8:$H$201)),2)) -> 0
C32: =C31+7 -> 41144 | F32: =ROUND(E32*A32,0) -> 0 | G32: =ROUND(E32*A32,0)-ROUND(E32*B32,0) -> 0 | H32: =IF($D32=0,"0",(D32-D31)*$A$3) -> 0 | I32: =IF($D32=0,"0",(H32/E32)) -> 0 | K32: =$J$3 -> 45.856343 | L32: =$O$3 -> 37.899423 | M32: =$P$3 -> 41.946818 | N32: =IF($D32=0,"0",ROUNDUP(((G32/H32)+SUM($J$8:$J$201)/SUM($H$8:$H$201)),2)) -> 0
C33: =C32+7 -> 41151 | F33: =ROUND(E33*A33,0) -> 0 | G33: =ROUND(E33*A33,0)-ROUND(E33*B33,0) -> 0 | H33: =IF($D33=0,"0",(D33-D32)*$A$3) -> 0 | I33: =IF($D33=0,"0",(H33/E33)) -> 0 | K33: =$J$3 -> 45.856343 | L33: =$O$3 -> 37.899423 | M33: =$P$3 -> 41.946818 | N33: =IF($D33=0,"0",ROUNDUP(((G33/H33)+SUM($J$8:$J$201)/SUM($H$8:$H$201)),2)) -> 0
C34: =C33+7 -> 41158 | F34: =ROUND(E34*A34,0) -> 0 | G34: =ROUND(E34*A34,0)-ROUND(E34*B34,0) -> 0 | H34: =IF($D34=0,"0",(D34-D33)*$A$3) -> 0 | I34: =IF($D34=0,"0",(H34/E34)) -> 0 | K34: =$J$3 -> 45.856343 | L34: =$O$3 -> 37.899423 | M34: =$P$3 -> 41.946818 | N34: =IF($D34=0,"0",ROUNDUP(((G34/H34)+SUM($J$8:$J$201)/SUM($H$8:$H$201)),2)) -> 0
C35: =C34+7 -> 41165 | F35: =ROUND(E35*A35,0) -> 0 | G35: =ROUND(E35*A35,0)-ROUND(E35*B35,0) -> 0 | H35: =IF($D35=0,"0",(D35-D34)*$A$3) -> 0 | I35: =IF($D35=0,"0",(H35/E35)) -> 0 | K35: =$J$3 -> 45.856343 | L35: =$O$3 -> 37.899423 | M35: =$P$3 -> 41.946818 | N35: =IF($D35=0,"0",ROUNDUP(((G35/H35)+SUM($J$8:$J$201)/SUM($H$8:$H$201)),2)) -> 0
C36: =C35+7 -> 41172 | F36: =ROUND(E36*A36,0) -> 0 | G36: =ROUND(E36*A36,0)-ROUND(E36*B36,0) -> 0 | H36: =IF($D36=0,"0",(D36-D35)*$A$3) -> 0 | I36: =IF($D36=0,"0",(H36/E36)) -> 0 | K36: =$J$3 -> 45.856343 | L36: =$O$3 -> 37.899423 | M36: =$P$3 -> 41.946818 | N36: =IF($D36=0,"0",ROUNDUP(((G36/H36)+SUM($J$8:$J$201)/SUM($H$8:$H$201)),2)) -> 0
C37: =C36+7 -> 41179 | F37: =ROUND(E37*A37,0) -> 0 | G37: =ROUND(E37*A37,0)-ROUND(E37*B37,0) -> 0 | H37: =IF($D37=0,"0",(D37-D36)*$A$3) -> 0 | I37: =IF($D37=0,"0",(H37/E37)) -> 0 | K37: =$J$3 -> 45.856343 | L37: =$O$3 -> 37.899423 | M37: =$P$3 -> 41.946818 | N37: =IF($D37=0,"0",ROUNDUP(((G37/H37)+SUM($J$8:$J$201)/SUM($H$8:$H$201)),2)) -> 0
C38: =C37+7 -> 41186 | F38: =ROUND(E38*A38,0) -> 0 | G38: =ROUND(E38*A38,0)-ROUND(E38*B38,0) -> 0 | H38: =IF($D38=0,"0",(D38-D37)*$A$3) -> 0 | I38: =IF($D38=0,"0",(H38/E38)) -> 0 | K38: =$J$3 -> 45.856343 | L38: =$O$3 -> 37.899423 | M38: =$P$3 -> 41.946818 | N38: =IF($D38=0,"0",ROUNDUP(((G38/H38)+SUM($J$8:$J$201)/SUM($H$8:$H$201)),2)) -> 0
C39: =C38+7 -> 41193 | F39: =ROUND(E39*A39,0) -> 0 | G39: =ROUND(E39*A39,0)-ROUND(E39*B39,0) -> 0 | H39: =IF($D39=0,"0",(D39-D38)*$A$3) -> 0 | I39: =IF($D39=0,"0",(H39/E39)) -> 0 | K39: =$J$3 -> 45.856343 | L39: =$O$3 -> 37.899423 | M39: =$P$3 -> 41.946818 | N39: =IF($D39=0,"0",ROUNDUP(((G39/H39)+SUM($J$8:$J$201)/SUM($H$8:$H$201)),2)) -> 0
C40: =C39+7 -> 41200 | F40: =ROUND(E40*A40,0) -> 0 | G40: =ROUND(E40*A40,0)-ROUND(E40*B40,0) -> 0 | H40: =IF($D40=0,"0",(D40-D39)*$A$3) -> 0 | I40: =IF($D40=0,"0",(H40/E40)) -> 0 | K40: =$J$3 -> 45.856343 | L40: =$O$3 -> 37.899423 | M40: =$P$3 -> 41.946818 | N40: =IF($D40=0,"0",ROUNDUP(((G40/H40)+SUM($J$8:$J$201)/SUM($H$8:$H$201)),2)) -> 0
C41: =C40+7 -> 41207 | F41: =ROUND(E41*A41,0) -> 0 | G41: =ROUND(E41*A41,0)-ROUND(E41*B41,0) -> 0 | H41: =IF($D41=0,"0",(D41-D40)*$A$3) -> 0 | I41: =IF($D41=0,"0",(H41/E41)) -> 0 | K41: =$J$3 -> 45.856343 | L41: =$O$3 -> 37.899423 | M41: =$P$3 -> 41.946818 | N41: =IF($D41=0,"0",ROUNDUP(((G41/H41)+SUM($J$8:$J$201)/SUM($H$8:$H$201)),2)) -> 0
C42: =C41+7 -> 41214 | F42: =ROUND(E42*A42,0) -> 0 | G42: =ROUND(E42*A42,0)-ROUND(E42*B42,0) -> 0 | H42: =IF($D42=0,"0",(D42-D41)*$A$3) -> 0 | I42: =IF($D42=0,"0",(H42/E42)) -> 0 | K42: =$J$3 -> 45.856343 | L42: =$O$3 -> 37.899423 | M42: =$P$3 -> 41.946818 | N42: =IF($D42=0,"0",ROUNDUP(((G42/H42)+SUM($J$8:$J$201)/SUM($H$8:$H$201)),2)) -> 0
... C93: =C92+7 -> 41571 | F93: =ROUND(E93*A93,0) -> 0 | G93: =ROUND(E93*A93,0)-ROUND(E93*B93,0) -> 0 | H93: =IF($D93=0,"0",(D93-D92)*$A$3) -> 0 | I93: =IF($D93=0,"0",(H93/E93)) -> 0 | K93: =$J$3 -> 45.856343 | L93: =$O$3 -> 37.899423 | M93: =$P$3 -> 41.946818 | N93: =IF($D93=0,"0",ROUNDUP(((G93/H93)+SUM($J$8:$J$201)/SUM($H$8:$H$201)),2)) -> 0
C94: =C93+7 -> 41578 | F94: =ROUND(E94*A94,0) -> 0 | G94: =ROUND(E94*A94,0)-ROUND(E94*B94,0) -> 0 | K94: =$J$3 -> 45.856343 | L94: =$O$3 -> 37.899423 | M94: =$P$3 -> 41.946818 | N94: =IF($D94=0,"0",ROUNDUP(((G94/H94)+SUM($J$8:$J$201)/SUM($H$8:$H$201)),2)) -> 0
C95: =C94+7 -> 41585 | F95: =ROUND(E95*A95,0) -> 0 | G95: =ROUND(E95*A95,0)-ROUND(E95*B95,0) -> 0 | H95: =IF($D95=0,"0",(D95-D94)*$A$3) -> 0 | I95: =IF($D95=0,"0",(H95/E95)) -> 0 | K95: =$J$3 -> 45.856343 | L95: =$O$3 -> 37.899423 | M95: =$P$3 -> 41.946818 | N95: =IF($D95=0,"0",ROUNDUP(((G95/H95)+SUM($J$8:$J$201)/SUM($H$8:$H$201)),2)) -> 0
C96: =C95+7 -> 41592 | F96: =ROUND(E96*A96,0) -> 0 | G96: =ROUND(E96*A96,0)-ROUND(E96*B96,0) -> 0 | H96: =IF($D96=0,"0",(D96-D95)*$A$3) -> 0 | I96: =IF($D96=0,"0",(H96/E96)) -> 0 | K96: =$J$3 -> 45.856343 | L96: =$O$3 -> 37.899423 | M96: =$P$3 -> 41.946818 | N96: =IF($D96=0,"0",ROUNDUP(((G96/H96)+SUM($J$8:$J$201)/SUM($H$8:$H$201)),2)) -> 0
C97: =C96+7 -> 41599 | F97: =ROUND(E97*A97,0) -> 0 | G97: =ROUND(E97*A97,0)-ROUND(E97*B97,0) -> 0 | H97: =IF($D97=0,"0",(D97-D96)*$A$3) -> 0 | I97: =IF($D97=0,"0",(H97/E97)) -> 0 | K97: =$J$3 -> 45.856343 | L97: =$O$3 -> 37.899423 | M97: =$P$3 -> 41.946818 | N97: =IF($D97=0,"0",ROUNDUP(((G97/H97)+SUM($J$8:$J$201)/SUM($H$8:$H$201)),2)) -> 0
C98: =C97+7 -> 41606 | F98: =ROUND(E98*A98,0) -> 0 | G98: =ROUND(E98*A98,0)-ROUND(E98*B98,0) -> 0 | H98: =IF($D98=0,"0",(D98-D97)*$A$3) -> 0 | I98: =IF($D98=0,"0",(H98/E98)) -> 0 | K98: =$J$3 -> 45.856343 | L98: =$O$3 -> 37.899423 | M98: =$P$3 -> 41.946818 | N98: =IF($D98=0,"0",ROUNDUP(((G98/H98)+SUM($J$8:$J$201)/SUM($H$8:$H$201)),2)) -> 0
C99: =C98+7 -> 41613 | F99: =ROUND(E99*A99,0) -> 0 | G99: =ROUND(E99*A99,0)-ROUND(E99*B99,0) -> 0 | H99: =IF($D99=0,"0",(D99-D98)*$A$3) -> 0 | I99: =IF($D99=0,"0",(H99/E99)) -> 0 | K99: =$J$3 -> 45.856343 | L99: =$O$3 -> 37.899423 | M99: =$P$3 -> 41.946818 | N99: =IF($D99=0,"0",ROUNDUP(((G99/H99)+SUM($J$8:$J$201)/SUM($H$8:$H$201)),2)) -> 0
C100: =C99+7 -> 41620 | F100: =ROUND(E100*A100,0) -> 0 | G100: =ROUND(E100*A100,0)-ROUND(E100*B100,0) -> 0 | H100: =IF($D100=0,"0",(D100-D99)*$A$3) -> 0 | I100: =IF($D100=0,"0",(H100/E100)) -> 0 | K100: =$J$3 -> 45.856343 | L100: =$O$3 -> 37.899423 | M100: =$P$3 -> 41.946818 | N100: =IF($D100=0,"0",ROUNDUP(((G100/H100)+SUM($J$8:$J$201)/SUM($H$8:$H$201)),2)) -> 0
C101: =C100+7 -> 41627 | F101: =ROUND(E101*A101,0) -> 0 | G101: =ROUND(E101*A101,0)-ROUND(E101*B101,0) -> 0 | H101: =IF($D101=0,"0",(D101-D100)*$A$3) -> 0 | I101: =IF($D101=0,"0",(H101/E101)) -> 0 | K101: =$J$3 -> 45.856343 | L101: =$O$3 -> 37.899423 | M101: =$P$3 -> 41.946818 | N101: =IF($D101=0,"0",ROUNDUP(((G101/H101)+SUM($J$8:$J$201)/SUM($H$8:$H$201)),2)) -> 0
C102: =C101+7 -> 41634 | F102: =ROUND(E102*A102,0) -> 0 | G102: =ROUND(E102*A102,0)-ROUND(E102*B102,0) -> 0 | H102: =IF($D102=0,"0",(D102-D101)*$A$3) -> 0 | I102: =IF($D102=0,"0",(H102/E102)) -> 0 | K102: =$J$3 -> 45.856343 | L102: =$O$3 -> 37.899423 | M102: =$P$3 -> 41.946818 | N102: =IF($D102=0,"0",ROUNDUP(((G102/H102)+SUM($J$8:$J$201)/SUM($H$8:$H$201)),2)) -> 0
C103: =C102+7 -> 41641 | F103: =ROUND(E103*A103,0) -> 0 | G103: =ROUND(E103*A103,0)-ROUND(E103*B103,0) -> 0 | H103: =IF($D103=0,"0",(D103-D102)*$A$3) -> 0 | I103: =IF($D103=0,"0",(H103/E103)) -> 0 | K103: =$J$3 -> 45.856343 | L103: =$O$3 -> 37.899423 | M103: =$P$3 -> 41.946818 | N103: =IF($D103=0,"0",ROUNDUP(((G103/H103)+SUM($J$8:$J$201)/SUM($H$8:$H$201)),2)) -> 0
C104: =C103+7 -> 41648 | F104: =ROUND(E104*A104,0) -> 0 | G104: =ROUND(E104*A104,0)-ROUND(E104*B104,0) -> 0 | H104: =IF($D104=0,"0",(D104-D103)*$A$3) -> 0 | I104: =IF($D104=0,"0",(H104/E104)) -> 0 | K104: =$J$3 -> 45.856343 | L104: =$O$3 -> 37.899423 | M104: =$P$3 -> 41.946818 | N104: =IF($D104=0,"0",ROUNDUP(((G104/H104)+SUM($J$8:$J$201)/SUM($H$8:$H$201)),2)) -> 0
C105: =C104+7 -> 41655 | F105: =ROUND(E105*A105,0) -> 0 | G105: =ROUND(E105*A105,0)-ROUND(E105*B105,0) -> 0 | H105: =IF($D105=0,"0",(D105-D104)*$A$3) -> 0 | I105: =IF($D105=0,"0",(H105/E105)) -> 0 | K105: =$J$3 -> 45.856343 | L105: =$O$3 -> 37.899423 | M105: =$P$3 -> 41.946818 | N105: =IF($D105=0,"0",ROUNDUP(((G105/H105)+SUM($J$8:$J$201)/SUM($H$8:$H$201)),2)) -> 0
C106: =C105+7 -> 41662 | F106: =ROUND(E106*A106,0) -> 0 | G106: =ROUND(E106*A106,0)-ROUND(E106*B106,0) -> 0 | H106: =IF($D106=0,"0",(D106-D105)*$A$3) -> 0 | I106: =IF($D106=0,"0",(H106/E106)) -> 0 | K106: =$J$3 -> 45.856343 | L106: =$O$3 -> 37.899423 | M106: =$P$3 -> 41.946818 | N106: =IF($D106=0,"0",ROUNDUP(((G106/H106)+SUM($J$8:$J$201)/SUM($H$8:$H$201)),2)) -> 0
... C138: =C137+7 -> 41886 | F138: =ROUND(E138*A138,0) -> 0 | G138: =ROUND(E138*A138,0)-ROUND(E138*B138,0) -> 0 | H138: =IF($D138=0,"0",(D138-D137)*$A$3) -> 0 | I138: =IF($D138=0,"0",(H138/E138)) -> 0 | K138: =$J$3 -> 45.856343 | L138: =$O$3 -> 37.899423 | M138: =$P$3 -> 41.946818 | N138: =IF($D138=0,"0",ROUNDUP(((G138/H138)+SUM($J$8:$J$201)/SUM($H$8:$H$201)),2)) -> 0

Sheet 汽車加油記錄
C1: 汽車加油記錄 - XXXXX + 95汽油
A2: 誤差參數 | C2: 最佳紀錄 | D2: 最差紀錄 | E2: 總加油量 ( 升) | F2: 平均開銷 （月） | H2: 總 計 ( 行進公里數 ) | I2: 紀錄總平均 ( 公里 / 升) | J2: 前 5 優 平均 | N2: 平均成本 （NT / 公里） | O2: 前 5 劣 平均 | P2: 累積總平均
A3: =20.3/20.3 -> 1 | C3: =MAX($I4:$I201) -> 14.074074 | D3: =MIN($I4:$I201) -> 7.4285714 | E3: =SUM($E7:$E200) -> 410.35 | F3: =AVERAGEIF(汽車vs機車!R19:R22,">0") -> 1461.5 | H3: =SUM(H7:H200) -> 3970 | I3: =ROUND(($H3/$E3),2) -> 9.67 | J3: =(LARGE($I7:$I201,1)+LARGE($I7:$I201,2)+LARGE($I7:$I201,3)+LARGE($I7:$I201,4)+LARGE($I7:$I201,5))/5 -> 12.037037 | N3: =AVERAGEIF(N8:N200,">0") -> 3.8115385 | O3: =(SMALL($I7:$I201,1)+SMALL($I7:$I201,2)+SMALL($I7:$I201,3)+SMALL($I7:$I201,4)+SMALL($I7:$I201,5))/5 -> 9.2601916 | P3: =AVERAGE(I7:I1000) -> 10.557511
A5: 95 | B5: 95 | C5: XXXXX + 95
A6: 當日 油價 | B6: 當日 折扣 | C6: 加油日期 (每週三) | D6: 里程表數 | E6: 公升數 | F6: 標準 油資 | G6: 折扣後金額 （台塑） | H6: 實際行進里數 | I6: 油耗估算 | J6: 保養費用 / (含添加劑成本） | O6: 保養記錄 / 備註
A7: 30.5 | B7: 2.1 | C7: 40179 | D7: 10 | E7: 30 | F7: =ROUND(E7*A7,0) -> 915 | G7: =ROUND(E7*A7,0)-ROUND(E7*B7,0) -> 852 | J7: 1000 | K7: =$J$3 -> 12.037037 | L7: =$O$3 -> 9.2601916 | M7: =$P$3 -> 10.557511
A8: 30.1 | B8: 2.5 | C8: 40589 | D8: 270 | E8: 35 | F8: =ROUND(E8*A8,0) -> 1054 | G8: =ROUND(E8*A8,0)-ROUND(E8*B8,0) -> 966 | H8: =IF($D8=0,"0",(D8-D7)*$A$3) -> 260 | I8: =IF($D8=0,"0",(H8/E8)) -> 7.4285714 | J8: 105 | K8: =$J$3 -> 12.037037 | L8: =$O$3 -> 9.2601916 | M8: =$P$3 -> 10.557511 | N8: =IF($D8=0,"0",ROUNDUP(((G8/H8)+SUM($J$7:$J$200)/SUM($H$7:$H$200)),2)) -> 4.75 | O8: 加汽油精一罐
A9: 29.8 | B9: 0 | C9: 40968 | D9: 600 | E9: 28 | F9: =ROUND(E9*A9,0) -> 834 | G9: =ROUND(E9*A9,0)-ROUND(E9*B9,0) -> 834 | H9: =IF($D9=0,"0",(D9-D8)*$A$3) -> 330 | I9: =IF($D9=0,"0",(H9/E9)) -> 11.785714 | J9: =250*4+2000 -> 3000 | K9: =$J$3 -> 12.037037 | L9: =$O$3 -> 9.2601916 | M9: =$P$3 -> 10.557511 | N9: =IF($D9=0,"0",ROUNDUP(((G9/H9)+SUM($J$7:$J$200)/SUM($H$7:$H$200)),2)) -> 3.57 | O9: 小保養：機油 250x4 + 工錢 2000
A10: 30.5 | B10: 2 | C10: =C9+14 -> 40982 | D10: =D9+300 -> 900 | E10: 30 | F10: =ROUND(E10*A10,0) -> 915 | G10: =ROUND(E10*A10,0)-ROUND(E10*B10,0) -> 855 | H10: =IF($D10=0,"0",(D10-D9)*$A$3) -> 300 | I10: =IF($D10=0,"0",(H10/E10)) -> 10 | K10: =$J$3 -> 12.037037 | L10: =$O$3 -> 9.2601916 | M10: =$P$3 -> 10.557511 | N10: =IF($D10=0,"0",ROUNDUP(((G10/H10)+SUM($J$7:$J$200)/SUM($H$7:$H$200)),2)) -> 3.89
A11: 30.7 | B11: 2.5 | C11: =C10+14 -> 40996 | D11: =D10+300 -> 1200 | E11: 32 | F11: =ROUND(E11*A11,0) -> 982 | G11: =ROUND(E11*A11,0)-ROUND(E11*B11,0) -> 902 | H11: =IF($D11=0,"0",(D11-D10)*$A$3) -> 300 | I11: =IF($D11=0,"0",(H11/E11)) -> 9.375 | K11: =$J$3 -> 12.037037 | L11: =$O$3 -> 9.2601916 | M11: =$P$3 -> 10.557511 | N11: =IF($D11=0,"0",ROUNDUP(((G11/H11)+SUM($J$7:$J$200)/SUM($H$7:$H$200)),2)) -> 4.05
A12: 31 | B12: 0 | C12: =C11+14 -> 41010 | D12: =D11+300 -> 1500 | E12: 29 | F12: =ROUND(E12*A12,0) -> 899 | G12: =ROUND(E12*A12,0)-ROUND(E12*B12,0) -> 899 | H12: =IF($D12=0,"0",(D12-D11)*$A$3) -> 300 | I12: =IF($D12=0,"0",(H12/E12)) -> 10.344828 | K12: =$J$3 -> 12.037037 | L12: =$O$3 -> 9.2601916 | M12: =$P$3 -> 10.557511 | N12: =IF($D12=0,"0",ROUNDUP(((G12/H12)+SUM($J$7:$J$200)/SUM($H$7:$H$200)),2)) -> 4.04
A13: 29.9 | B13: 2 | C13: =C12+14 -> 41024 | D13: 1880 | E13: 27 | F13: =ROUND(E13*A13,0) -> 807 | G13: =ROUND(E13*A13,0)-ROUND(E13*B13,0) -> 753 | H13: =IF($D13=0,"0",(D13-D12)*$A$3) -> 380 | I13: =IF($D13=0,"0",(H13/E13)) -> 14.074074 | K13: =$J$3 -> 12.037037 | L13: =$O$3 -> 9.2601916 | M13: =$P$3 -> 10.557511 | N13: =IF($D13=0,"0",ROUNDUP(((G13/H13)+SUM($J$7:$J$200)/SUM($H$7:$H$200)),2)) -> 3.02 | O13: 全程高速公路定速 100
A14: 28.7 | B14: 0 | C14: =C13+14 -> 41038 | D14: =D13+300 -> 2180 | E14: 28 | F14: =ROUND(E14*A14,0) -> 804 | G14: =ROUND(E14*A14,0)-ROUND(E14*B14,0) -> 804 | H14: =IF($D14=0,"0",(D14-D13)*$A$3) -> 300 | I14: =IF($D14=0,"0",(H14/E14)) -> 10.714286 | K14: =$J$3 -> 12.037037 | L14: =$O$3 -> 9.2601916 | M14: =$P$3 -> 10.557511 | N14: =IF($D14=0,"0",ROUNDUP(((G14/H14)+SUM($J$7:$J$200)/SUM($H$7:$H$200)),2)) -> 3.72
A15: 31.5 | B15: 2 | C15: =C14+14 -> 41052 | D15: =D14+300 -> 2480 | E15: 28.8 | F15: =ROUND(E15*A15,0) -> 907 | G15: =ROUND(E15*A15,0)-ROUND(E15*B15,0) -> 849 | H15: =IF($D15=0,"0",(D15-D14)*$A$3) -> 300 | I15: =IF($D15=0,"0",(H15/E15)) -> 10.416667 | K15: =$J$3 -> 12.037037 | L15: =$O$3 -> 9.2601916 | M15: =$P$3 -> 10.557511 | N15: =IF($D15=0,"0",ROUNDUP(((G15/H15)+SUM($J$7:$J$200)/SUM($H$7:$H$200)),2)) -> 3.87
A16: 30 | B16: 2.5 | C16: =C15+14 -> 41066 | D16: =D15+300 -> 2780 | E16: 30 | F16: =ROUND(E16*A16,0) -> 900 | G16: =ROUND(E16*A16,0)-ROUND(E16*B16,0) -> 825 | H16: =IF($D16=0,"0",(D16-D15)*$A$3) -> 300 | I16: =IF($D16=0,"0",(H16/E16)) -> 10 | K16: =$J$3 -> 12.037037 | L16: =$O$3 -> 9.2601916 | M16: =$P$3 -> 10.557511 | N16: =IF($D16=0,"0",ROUNDUP(((G16/H16)+SUM($J$7:$J$200)/SUM($H$7:$H$200)),2)) -> 3.79
A17: 29.8 | B17: 0 | C17: =C16+14 -> 41080 | D17: =D16+300 -> 3080 | E17: 31 | F17: =ROUND(E17*A17,0) -> 924 | G17: =ROUND(E17*A17,0)-ROUND(E17*B17,0) -> 924 | H17: =IF($D17=0,"0",(D17-D16)*$A$3) -> 300 | I17: =IF($D17=0,"0",(H17/E17)) -> 9.6774194 | K17: =$J$3 -> 12.037037 | L17: =$O$3 -> 9.2601916 | M17: =$P$3 -> 10.557511 | N17: =IF($D17=0,"0",ROUNDUP(((G17/H17)+SUM($J$7:$J$200)/SUM($H$7:$H$200)),2)) -> 4.12
A18: 29.7 | B18: 2.1 | C18: =C17+14 -> 41094 | D18: =D17+300 -> 3380 | E18: 30.55 | F18: =ROUND(E18*A18,0) -> 907 | G18: =ROUND(E18*A18,0)-ROUND(E18*B18,0) -> 843 | H18: =IF($D18=0,"0",(D18-D17)*$A$3) -> 300 | I18: =IF($D18=0,"0",(H18/E18)) -> 9.8199673 | K18: =$J$3 -> 12.037037 | L18: =$O$3 -> 9.2601916 | M18: =$P$3 -> 10.557511 | N18: =IF($D18=0,"0",ROUNDUP(((G18/H18)+SUM($J$7:$J$200)/SUM($H$7:$H$200)),2)) -> 3.85
A19: 29.5 | B19: 2.2 | C19: =C18+14 -> 41108 | D19: =D18+300 -> 3680 | E19: 27 | F19: =ROUND(E19*A19,0) -> 797 | G19: =ROUND(E19*A19,0)-ROUND(E19*B19,0) -> 738 | H19: =IF($D19=0,"0",(D19-D18)*$A$3) -> 300 | I19: =IF($D19=0,"0",(H19/E19)) -> 11.111111 | K19: =$J$3 -> 12.037037 | L19: =$O$3 -> 9.2601916 | M19: =$P$3 -> 10.557511 | N19: =IF($D19=0,"0",ROUNDUP(((G19/H19)+SUM($J$7:$J$200)/SUM($H$7:$H$200)),2)) -> 3.5
A20: 31.7 | B20: 2.5 | C20: =C19+14 -> 41122 | D20: =D19+300 -> 3980 | E20: 24 | F20: =ROUND(E20*A20,0) -> 761 | G20: =ROUND(E20*A20,0)-ROUND(E20*B20,0) -> 701 | H20: =IF($D20=0,"0",(D20-D19)*$A$3) -> 300 | I20: =IF($D20=0,"0",(H20/E20)) -> 12.5 | K20: =$J$3 -> 12.037037 | L20: =$O$3 -> 9.2601916 | M20: =$P$3 -> 10.557511 | N20: =IF($D20=0,"0",ROUNDUP(((G20/H20)+SUM($J$7:$J$200)/SUM($H$7:$H$200)),2)) -> 3.38
C21: =C20+14 -> 41136 | F21: =ROUND(E21*A21,0) -> 0 | G21: =ROUND(E21*A21,0)-ROUND(E21*B21,0) -> 0 | H21: =IF($D21=0,"0",(D21-D20)*$A$3) -> 0 | I21: =IF($D21=0,"0",(H21/E21)) -> 0 | K21: =$J$3 -> 12.037037 | L21: =$O$3 -> 9.2601916 | M21: =$P$3 -> 10.557511 | N21: =IF($D21=0,"0",ROUNDUP(((G21/H21)+SUM($J$7:$J$200)/SUM($H$7:$H$200)),2)) -> 0
C22: =C21+14 -> 41150 | F22: =ROUND(E22*A22,0) -> 0 | G22: =ROUND(E22*A22,0)-ROUND(E22*B22,0) -> 0 | H22: =IF($D22=0,"0",(D22-D21)*$A$3) -> 0 | I22: =IF($D22=0,"0",(H22/E22)) -> 0 | K22: =$J$3 -> 12.037037 | L22: =$O$3 -> 9.2601916 | M22: =$P$3 -> 10.557511 | N22: =IF($D22=0,"0",ROUNDUP(((G22/H22)+SUM($J$7:$J$200)/SUM($H$7:$H$200)),2)) -> 0
C23: =C22+14 -> 41164 | F23: =ROUND(E23*A23,0) -> 0 | G23: =ROUND(E23*A23,0)-ROUND(E23*B23,0) -> 0 | H23: =IF($D23=0,"0",(D23-D22)*$A$3) -> 0 | I23: =IF($D23=0,"0",(H23/E23)) -> 0 | K23: =$J$3 -> 12.037037 | L23: =$O$3 -> 9.2601916 | M23: =$P$3 -> 10.557511 | N23: =IF($D23=0,"0",ROUNDUP(((G23/H23)+SUM($J$7:$J$200)/SUM($H$7:$H$200)),2)) -> 0
C24: =C23+14 -> 41178 | F24: =ROUND(E24*A24,0) -> 0 | G24: =ROUND(E24*A24,0)-ROUND(E24*B24,0) -> 0 | H24: =IF($D24=0,"0",(D24-D23)*$A$3) -> 0 | I24: =IF($D24=0,"0",(H24/E24)) -> 0 | K24: =$J$3 -> 12.037037 | L24: =$O$3 -> 9.2601916 | M24: =$P$3 -> 10.557511 | N24: =IF($D24=0,"0",ROUNDUP(((G24/H24)+SUM($J$7:$J$200)/SUM($H$7:$H$200)),2)) -> 0
C25: =C24+14 -> 41192 | F25: =ROUND(E25*A25,0) -> 0 | G25: =ROUND(E25*A25,0)-ROUND(E25*B25,0) -> 0 | H25: =IF($D25=0,"0",(D25-D24)*$A$3) -> 0 | I25: =IF($D25=0,"0",(H25/E25)) -> 0 | K25: =$J$3 -> 12.037037 | L25: =$O$3 -> 9.2601916 | M25: =$P$3 -> 10.557511 | N25: =IF($D25=0,"0",ROUNDUP(((G25/H25)+SUM($J$7:$J$200)/SUM($H$7:$H$200)),2)) -> 0
C26: =C25+14 -> 41206 | F26: =ROUND(E26*A26,0) -> 0 | G26: =ROUND(E26*A26,0)-ROUND(E26*B26,0) -> 0 | H26: =IF($D26=0,"0",(D26-D25)*$A$3) -> 0 | I26: =IF($D26=0,"0",(H26/E26)) -> 0 | K26: =$J$3 -> 12.037037 | L26: =$O$3 -> 9.2601916 | M26: =$P$3 -> 10.557511 | N26: =IF($D26=0,"0",ROUNDUP(((G26/H26)+SUM($J$7:$J$200)/SUM($H$7:$H$200)),2)) -> 0
C27: =C26+14 -> 41220 | F27: =ROUND(E27*A27,0) -> 0 | G27: =ROUND(E27*A27,0)-ROUND(E27*B27,0) -> 0 | H27: =IF($D27=0,"0",(D27-D26)*$A$3) -> 0 | I27: =IF($D27=0,"0",(H27/E27)) -> 0 | K27: =$J$3 -> 12.037037 | L27: =$O$3 -> 9.2601916 | M27: =$P$3 -> 10.557511 | N27: =IF($D27=0,"0",ROUNDUP(((G27/H27)+SUM($J$7:$J$200)/SUM($H$7:$H$200)),2)) -> 0
C28: =C27+14 -> 41234 | F28: =ROUND(E28*A28,0) -> 0 | G28: =ROUND(E28*A28,0)-ROUND(E28*B28,0) -> 0 | H28: =IF($D28=0,"0",(D28-D27)*$A$3) -> 0 | I28: =IF($D28=0,"0",(H28/E28)) -> 0 | K28: =$J$3 -> 12.037037 | L28: =$O$3 -> 9.2601916 | M28: =$P$3 -> 10.557511 | N28: =IF($D28=0,"0",ROUNDUP(((G28/H28)+SUM($J$7:$J$200)/SUM($H$7:$H$200)),2)) -> 0
C29: =C28+14 -> 41248 | F29: =ROUND(E29*A29,0) -> 0 | G29: =ROUND(E29*A29,0)-ROUND(E29*B29,0) -> 0 | H29: =IF($D29=0,"0",(D29-D28)*$A$3) -> 0 | I29: =IF($D29=0,"0",(H29/E29)) -> 0 | K29: =$J$3 -> 12.037037 | L29: =$O$3 -> 9.2601916 | M29: =$P$3 -> 10.557511 | N29: =IF($D29=0,"0",ROUNDUP(((G29/H29)+SUM($J$7:$J$200)/SUM($H$7:$H$200)),2)) -> 0
C30: =C29+14 -> 41262 | F30: =ROUND(E30*A30,0) -> 0 | G30: =ROUND(E30*A30,0)-ROUND(E30*B30,0) -> 0 | H30: =IF($D30=0,"0",(D30-D29)*$A$3) -> 0 | I30: =IF($D30=0,"0",(H30/E30)) -> 0 | K30: =$J$3 -> 12.037037 | L30: =$O$3 -> 9.2601916 | M30: =$P$3 -> 10.557511 | N30: =IF($D30=0,"0",ROUNDUP(((G30/H30)+SUM($J$7:$J$200)/SUM($H$7:$H$200)),2)) -> 0
C31: =C30+14 -> 41276 | F31: =ROUND(E31*A31,0) -> 0 | G31: =ROUND(E31*A31,0)-ROUND(E31*B31,0) -> 0 | H31: =IF($D31=0,"0",(D31-D30)*$A$3) -> 0 | I31: =IF($D31=0,"0",(H31/E31)) -> 0 | K31: =$J$3 -> 12.037037 | L31: =$O$3 -> 9.2601916 | M31: =$P$3 -> 10.557511 | N31: =IF($D31=0,"0",ROUNDUP(((G31/H31)+SUM($J$7:$J$200)/SUM($H$7:$H$200)),2)) -> 0
C32: =C31+14 -> 41290 | F32: =ROUND(E32*A32,0) -> 0 | G32: =ROUND(E32*A32,0)-ROUND(E32*B32,0) -> 0 | H32: =IF($D32=0,"0",(D32-D31)*$A$3) -> 0 | I32: =IF($D32=0,"0",(H32/E32)) -> 0 | K32: =$J$3 -> 12.037037 | L32: =$O$3 -> 9.2601916 | M32: =$P$3 -> 10.557511 | N32: =IF($D32=0,"0",ROUNDUP(((G32/H32)+SUM($J$7:$J$200)/SUM($H$7:$H$200)),2)) -> 0
... C85: =C84+14 -> 42032 | F85: =ROUND(E85*A85,0) -> 0 | G85: =ROUND(E85*A85,0)-ROUND(E85*B85,0) -> 0 | H85: =IF($D85=0,"0",(D85-D84)*$A$3) -> 0 | I85: =IF($D85=0,"0",(H85/E85)) -> 0 | K85: =$J$3 -> 12.037037 | L85: =$O$3 -> 9.2601916 | M85: =$P$3 -> 10.557511 | N85: =IF($D85=0,"0",ROUNDUP(((G85/H85)+SUM($J$7:$J$200)/SUM($H$7:$H$200)),2)) -> 0
C86: =C85+7 -> 42039 | F86: =ROUND(E86*A86,0) -> 0 | G86: =ROUND(E86*A86,0)-ROUND(E86*B86,0) -> 0 | H86: =IF($D86=0,"0",(D86-D85)*$A$3) -> 0 | I86: =IF($D86=0,"0",(H86/E86)) -> 0 | K86: =$J$3 -> 12.037037 | L86: =$O$3 -> 9.2601916 | M86: =$P$3 -> 10.557511 | N86: =IF($D86=0,"0",ROUNDUP(((G86/H86)+SUM($J$7:$J$200)/SUM($H$7:$H$200)),2)) -> 0
C87: =C86+7 -> 42046 | F87: =ROUND(E87*A87,0) -> 0 | G87: =ROUND(E87*A87,0)-ROUND(E87*B87,0) -> 0 | H87: =IF($D87=0,"0",(D87-D86)*$A$3) -> 0 | I87: =IF($D87=0,"0",(H87/E87)) -> 0 | K87: =$J$3 -> 12.037037 | L87: =$O$3 -> 9.2601916 | M87: =$P$3 -> 10.557511 | N87: =IF($D87=0,"0",ROUNDUP(((G87/H87)+SUM($J$7:$J$200)/SUM($H$7:$H$200)),2)) -> 0
C88: =C87+7 -> 42053 | F88: =ROUND(E88*A88,0) -> 0 | G88: =ROUND(E88*A88,0)-ROUND(E88*B88,0) -> 0 | H88: =IF($D88=0,"0",(D88-D87)*$A$3) -> 0 | I88: =IF($D88=0,"0",(H88/E88)) -> 0 | K88: =$J$3 -> 12.037037 | L88: =$O$3 -> 9.2601916 | M88: =$P$3 -> 10.557511 | N88: =IF($D88=0,"0",ROUNDUP(((G88/H88)+SUM($J$7:$J$200)/SUM($H$7:$H$200)),2)) -> 0
C89: =C88+7 -> 42060 | F89: =ROUND(E89*A89,0) -> 0 | G89: =ROUND(E89*A89,0)-ROUND(E89*B89,0) -> 0 | H89: =IF($D89=0,"0",(D89-D88)*$A$3) -> 0 | I89: =IF($D89=0,"0",(H89/E89)) -> 0 | K89: =$J$3 -> 12.037037 | L89: =$O$3 -> 9.2601916 | M89: =$P$3 -> 10.557511 | N89: =IF($D89=0,"0",ROUNDUP(((G89/H89)+SUM($J$7:$J$200)/SUM($H$7:$H$200)),2)) -> 0
C90: =C89+7 -> 42067 | F90: =ROUND(E90*A90,0) -> 0 | G90: =ROUND(E90*A90,0)-ROUND(E90*B90,0) -> 0 | H90: =IF($D90=0,"0",(D90-D89)*$A$3) -> 0 | I90: =IF($D90=0,"0",(H90/E90)) -> 0 | K90: =$J$3 -> 12.037037 | L90: =$O$3 -> 9.2601916 | M90: =$P$3 -> 10.557511 | N90: =IF($D90=0,"0",ROUNDUP(((G90/H90)+SUM($J$7:$J$200)/SUM($H$7:$H$200)),2)) -> 0
C91: =C90+7 -> 42074 | F91: =ROUND(E91*A91,0) -> 0 | G91: =ROUND(E91*A91,0)-ROUND(E91*B91,0) -> 0 | H91: =IF($D91=0,"0",(D91-D90)*$A$3) -> 0 | I91: =IF($D91=0,"0",(H91/E91)) -> 0 | K91: =$J$3 -> 12.037037 | L91: =$O$3 -> 9.2601916 | M91: =$P$3 -> 10.557511 | N91: =IF($D91=0,"0",ROUNDUP(((G91/H91)+SUM($J$7:$J$200)/SUM($H$7:$H$200)),2)) -> 0
C92: =C91+7 -> 42081 | F92: =ROUND(E92*A92,0) -> 0 | G92: =ROUND(E92*A92,0)-ROUND(E92*B92,0) -> 0 | H92: =IF($D92=0,"0",(D92-D91)*$A$3) -> 0 | I92: =IF($D92=0,"0",(H92/E92)) -> 0 | K92: =$J$3 -> 12.037037 | L92: =$O$3 -> 9.2601916 | M92: =$P$3 -> 10.557511 | N92: =IF($D92=0,"0",ROUNDUP(((G92/H92)+SUM($J$7:$J$200)/SUM($H$7:$H$200)),2)) -> 0
C93: =C92+7 -> 42088 | F93: =ROUND(E93*A93,0) -> 0 | G93: =ROUND(E93*A93,0)-ROUND(E93*B93,0) -> 0 | H93: =IF($D93=0,"0",(D93-D92)*$A$3) -> 0 | I93: =IF($D93=0,"0",(H93/E93)) -> 0 | K93: =$J$3 -> 12.037037 | L93: =$O$3 -> 9.2601916 | M93: =$P$3 -> 10.557511 | N93: =IF($D93=0,"0",ROUNDUP(((G93/H93)+SUM($J$7:$J$200)/SUM($H$7:$H$200)),2)) -> 0
C94: =C93+7 -> 42095 | F94: =ROUND(E94*A94,0) -> 0 | G94: =ROUND(E94*A94,0)-ROUND(E94*B94,0) -> 0 | H94: =IF($D94=0,"0",(D94-D93)*$A$3) -> 0 | I94: =IF($D94=0,"0",(H94/E94)) -> 0 | K94: =$J$3 -> 12.037037 | L94: =$O$3 -> 9.2601916 | M94: =$P$3 -> 10.557511 | N94: =IF($D94=0,"0",ROUNDUP(((G94/H94)+SUM($J$7:$J$200)/SUM($H$7:$H$200)),2)) -> 0
C95: =C94+7 -> 42102 | F95: =ROUND(E95*A95,0) -> 0 | G95: =ROUND(E95*A95,0)-ROUND(E95*B95,0) -> 0 | H95: =IF($D95=0,"0",(D95-D94)*$A$3) -> 0 | I95: =IF($D95=0,"0",(H95/E95)) -> 0 | K95: =$J$3 -> 12.037037 | L95: =$O$3 -> 9.2601916 | M95: =$P$3 -> 10.557511 | N95: =IF($D95=0,"0",ROUNDUP(((G95/H95)+SUM($J$7:$J$200)/SUM($H$7:$H$200)),2)) -> 0
C96: =C95+7 -> 42109 | F96: =ROUND(E96*A96,0) -> 0 | G96: =ROUND(E96*A96,0)-ROUND(E96*B96,0) -> 0 | H96: =IF($D96=0,"0",(D96-D95)*$A$3) -> 0 | I96: =IF($D96=0,"0",(H96/E96)) -> 0 | K96: =$J$3 -> 12.037037 | L96: =$O$3 -> 9.2601916 | M96: =$P$3 -> 10.557511 | N96: =IF($D96=0,"0",ROUNDUP(((G96/H96)+SUM($J$7:$J$200)/SUM($H$7:$H$200)),2)) -> 0
C97: =C96+7 -> 42116 | F97: =ROUND(E97*A97,0) -> 0 | G97: =ROUND(E97*A97,0)-ROUND(E97*B97,0) -> 0 | H97: =IF($D97=0,"0",(D97-D96)*$A$3) -> 0 | I97: =IF($D97=0,"0",(H97/E97)) -> 0 | K97: =$J$3 -> 12.037037 | L97: =$O$3 -> 9.2601916 | M97: =$P$3 -> 10.557511 | N97: =IF($D97=0,"0",ROUNDUP(((G97/H97)+SUM($J$7:$J$200)/SUM($H$7:$H$200)),2)) -> 0
... C111: =C110+7 -> 42214 | F111: =ROUND(E111*A111,0) -> 0 | G111: =ROUND(E111*A111,0)-ROUND(E111*B111,0) -> 0 | H111: =IF($D111=0,"0",(D111-D110)*$A$3) -> 0 | I111: =IF($D111=0,"0",(H111/E111)) -> 0 | K111: =$J$3 -> 12.037037 | L111: =$O$3 -> 9.2601916 | M111: =$P$3 -> 10.557511 | N111: =IF($D111=0,"0",ROUNDUP(((G111/H111)+SUM($J$7:$J$200)/SUM($H$7:$H$200)),2)) -> 0
C112: =C111+7 -> 42221 | F112: =ROUND(E112*汽車vs機車!$B$17,0) -> 0 | G112: =ROUND(E112*A112,0)-ROUND(E112*B112,0) -> 0 | H112: =IF($D112=0,"0",(D112-D111)*$A$3) -> 0 | I112: =IF($D112=0,"0",(H112/E112)) -> 0 | K112: =$J$3 -> 12.037037 | L112: =$O$3 -> 9.2601916 | M112: =$P$3 -> 10.557511 | N112: =IF($D112=0,"0",ROUNDUP(((G112/H112)+SUM($J$7:$J$200)/SUM($H$7:$H$200)),2)) -> 0
K113: =$J$3 -> 12.037037 | L113: =$O$3 -> 9.2601916 | M113: =$P$3 -> 10.557511
K114: =$J$3 -> 12.037037 | L114: =$O$3 -> 9.2601916 | M114: =$P$3 -> 10.557511
K115: =$J$3 -> 12.037037 | L115: =$O$3 -> 9.2601916 | M115: =$P$3 -> 10.557511
K116: =$J$3 -> 12.037037 | L116: =$O$3 -> 9.2601916 | M116: =$P$3 -> 10.557511
K117: =$J$3 -> 12.037037 | L117: =$O$3 -> 9.2601916 | M117: =$P$3 -> 10.557511
K118: =$J$3 -> 12.037037 | L118: =$O$3 -> 9.2601916 | M118: =$P$3 -> 10.557511
K119: =$J$3 -> 12.037037 | L119: =$O$3 -> 9.2601916 | M119: =$P$3 -> 10.557511
K120: =$J$3 -> 12.037037 | L120: =$O$3 -> 9.2601916 | M120: =$P$3 -> 10.557511
K121: =$J$3 -> 12.037037 | L121: =$O$3 -> 9.2601916 | M121: =$P$3 -> 10.557511
K122: =$J$3 -> 12.037037 | L122: =$O$3 -> 9.2601916 | M122: =$P$3 -> 10.557511
K123: =$J$3 -> 12.037037 | L123: =$O$3 -> 9.2601916 | M123: =$P$3 -> 10.557511
K124: =$J$3 -> 12.037037 | L124: =$O$3 -> 9.2601916 | M124: =$P$3 -> 10.557511
... K138: =$J$3 -> 12.037037 | L138: =$O$3 -> 9.2601916 | M138: =$P$3 -> 10.557511
