Workbook
Name DATA1: OFFSET(油耗統計資料庫!$D$2,0,0,COUNTA(油耗統計資料庫!$D:$D)-1,1)
Name DATA2: OFFSET(油耗統計資料庫!$E$2,0,0,COUNTA(油耗統計資料庫!$E:$E)-1,1)
Name DATA3: OFFSET(油耗統計資料庫!$A$2,0,0,COUNTA(油耗統計資料庫!$A:$A)-1,1)

Sheet 油耗統計資料庫
A1: 西元年/月/日 | B1: 單桶油耗(公升) | C1: 單桶里程(km) | D1: 單桶平均里程(km/升) | E1: 總平均油耗 | F1: 期望(km) | G1: 達到預期
D2: =IF($B2=0,0,ROUND(($C2/$B2),2)) -> 0 | E2: =總計表!$A$2 -> #DIV/0! | F2: =ROUND((總計表!$A$2*$B2),1) -> #DIV/0! | G2: =IF($C2>$F2,"V",IF($F2=0,"N/A","X")) -> #DIV/0!
D3: =IF($B3=0,0,ROUND(($C3/$B3),2)) -> 0 | E3: =總計表!$A$2 -> #DIV/0! | F3: =ROUND((總計表!$A$2*$B3),1) -> #DIV/0! | G3: =IF($C3>$F3,"V",IF($F3=0,"N/A","X")) -> #DIV/0!
D4: =IF($B4=0,0,ROUND(($C4/$B4),2)) -> 0 | E4: =總計表!$A$2 -> #DIV/0! | F4: =ROUND((總計表!$A$2*$B4),1) -> #DIV/0! | G4: =IF($C4>$F4,"V",IF($F4=0,"N/A","X")) -> #DIV/0!
D5: =IF($B5=0,0,ROUND(($C5/$B5),2)) -> 0 | E5: =總計表!$A$2 -> #DIV/0! | F5: =ROUND((總計表!$A$2*$B5),1) -> #DIV/0! | G5: =IF($C5>$F5,"V",IF($F5=0,"N/A","X")) -> #DIV/0!
D6: =IF($B6=0,0,ROUND(($C6/$B6),2)) -> 0 | E6: =總計表!$A$2 -> #DIV/0! | F6: =ROUND((總計表!$A$2*$B6),1) -> #DIV/0! | G6: =IF($C6>$F6,"V",IF($F6=0,"N/A","X")) -> #DIV/0!
D7: =IF($B7=0,0,ROUND(($C7/$B7),2)) -> 0 | E7: =總計表!$A$2 -> #DIV/0! | F7: =ROUND((總計表!$A$2*$B7),1) -> #DIV/0! | G7: =IF($C7>$F7,"V",IF($F7=0,"N/A","X")) -> #DIV/0!
D8: =IF($B8=0,0,ROUND(($C8/$B8),2)) -> 0 | E8: =總計表!$A$2 -> #DIV/0! | F8: =ROUND((總計表!$A$2*$B8),1) -> #DIV/0! | G8: =IF($C8>$F8,"V",IF($F8=0,"N/A","X")) -> #DIV/0!
D9: =IF($B9=0,0,ROUND(($C9/$B9),2)) -> 0 | E9: =總計表!$A$2 -> #DIV/0! | F9: =ROUND((總計表!$A$2*$B9),1) -> #DIV/0! | G9: =IF($C9>$F9,"V",IF($F9=0,"N/A","X")) -> #DIV/0!
D10: =IF($B10=0,0,ROUND(($C10/$B10),2)) -> 0 | E10: =總計表!$A$2 -> #DIV/0! | F10: =ROUND((總計表!$A$2*$B10),1) -> #DIV/0! | G10: =IF($C10>$F10,"V",IF($F10=0,"N/A","X")) -> #DIV/0!
D11: =IF($B11=0,0,ROUND(($C11/$B11),2)) -> 0 | E11: =總計表!$A$2 -> #DIV/0! | F11: =ROUND((總計表!$A$2*$B11),1) -> #DIV/0! | G11: =IF($C11>$F11,"V",IF($F11=0,"N/A","X")) -> #DIV/0!
D12: =IF($B12=0,0,ROUND(($C12/$B12),2)) -> 0 | E12: =總計表!$A$2 -> #DIV/0! | F12: =ROUND((總計表!$A$2*$B12),1) -> #DIV/0! | G12: =IF($C12>$F12,"V",IF($F12=0,"N/A","X")) -> #DIV/0!
D13: =IF($B13=0,0,ROUND(($C13/$B13),2)) -> 0 | E13: =總計表!$A$2 -> #DIV/0! | F13: =ROUND((總計表!$A$2*$B13),1) -> #DIV/0! | G13: =IF($C13>$F13,"V",IF($F13=0,"N/A","X")) -> #DIV/0!
... D15: =IF($B15=0,0,ROUND(($C15/$B15),2)) -> 0 | E15: =總計表!$A$2 -> #DIV/0! | F15: =ROUND((總計表!$A$2*$B15),1) -> #DIV/0! | G15: =IF($C15>$F15,"V",IF($F15=0,"N/A","X")) -> #DIV/0!

Sheet 總計表
A1: 總平均油耗 | B1: 總記錄里程(km) | C1: 總油量(公升) | D1: 前十佳平均油耗 | E1: 單桶最佳紀錄 | F1: 極限里程 | G1: 油箱總量(公升)
A2: =ROUND((B2/C2),2) -> #DIV/0! | B2: =SUM(油耗統計資料庫!$C:$C) -> 0 | C2: =SUM(油耗統計資料庫!$B:$B) -> 0 | D2: =(IF(LARGE(油耗統計資料庫!$D:$D,1)>0,LARGE(油耗統計資料庫!$D:$D,1),"0")+IF(LARGE(油耗統計資料庫!$D:$D,2)>0,LARGE(油耗統計資料庫!$D:$D,2),"0")+IF(LARGE(油耗統計資料庫!$D:$D,3)>0,LARGE(油耗統計資料庫!$D:$D,3),"0")+IF(LARGE(油耗統計資料庫!$D:$D,4)>0,LARGE(油耗統計資料庫!$D:$D,4),"0")+IF(LARGE(油耗統計資料庫!$D:$D,5)>0,LARGE(油耗統計資料庫!$D:$D,5),"0")+IF(LARGE(油耗統計資料庫!$D:$D,6)>0,LARGE(油耗統計資料庫!$D:$D,6),"0")+IF(LARGE(油耗統計資料庫!$D:$D,7)>0,LARGE(油耗統計資料庫!$D:$D,7),"0")+IF(LARGE(油耗統計資料庫!$D:$D,8)>0,LARGE(油耗統計資料庫!$D:$D,8),"0")+IF(LARGE(油耗統計資料庫!$D:$D,9)>0,LARGE(油耗統計資料庫!$D:$D,9),"0")+IF(LARGE(油耗統計資料庫!$D:$D,10)>0,LARGE(油耗統計資料庫!$D:$D,10),"0"))/(IF(OR(COUNTA(油耗統計資料庫!$B$2:$B$12)>10,COUNTA(油耗統計資料庫!$B$2:$B$12)=10),10,COUNTA(油耗統計資料庫!$B$2:$B$12))) -> #DIV/0! | E2: =MAX(油耗統計資料庫!$D:$D) -> 0 | F2: =$A$2*G2 -> #DIV/0!

Sheet 圖表
