Workbook

Sheet 里程數
A1: 日期 | B1: 起始 | C1: 結束 | D1: 行駛 | E1: Total | F1: 數量 | G1: 單價 | H1: 費用 | I1: 加油里程 | J1: 行程 | K1: 保養里程數 | L1: 保養項目
D2: =IF(ISNUMBER(C2),C2-B2,"") | E2: =IF(D2="",D2,C2) | H2: =IF(AND(ISNUMBER(F2),ISNUMBER(G2)),F2*G2,IF(AND(F2>0,G2>0),"Error",""))
A3: =IF(AND(E2<>"",A2<>""),A2+1,"") | B3: =IF(ISNUMBER(C3),IF(ISNUMBER(B2),IF(C3<C2,"小於期初",IF(C3<>"",C2,"輸入錯誤")),B2),"") | D3: =IF(ISNUMBER(B3),C3-B3,"") | E3: =IF(D3="",D3,C3) | H3: =IF(AND(ISNUMBER(F3),ISNUMBER(G3)),F3*G3,IF(AND(F3>0,G3>0),"Error",""))
A4: =IF(AND(E3<>"",A3<>""),A3+1,"") | B4: =IF(ISNUMBER(C4),IF(ISNUMBER(B3),IF(C4<C3,"小於期初",IF(C4<>"",C3,"輸入錯誤")),B3),"") | D4: =IF(ISNUMBER(B4),C4-B4,"") | E4: =IF(D4="",D4,C4) | H4: =IF(AND(ISNUMBER(F4),ISNUMBER(G4)),F4*G4,IF(AND(F4>0,G4>0),"Error",""))
A5: =IF(AND(E4<>"",A4<>""),A4+1,"") | B5: =IF(ISNUMBER(C5),IF(ISNUMBER(B4),IF(C5<C4,"小於期初",IF(C5<>"",C4,"輸入錯誤")),B4),"") | D5: =IF(ISNUMBER(B5),C5-B5,"") | E5: =IF(D5="",D5,C5) | H5: =IF(AND(ISNUMBER(F5),ISNUMBER(G5)),F5*G5,IF(AND(F5>0,G5>0),"Error",""))
A6: =IF(AND(E5<>"",A5<>""),A5+1,"") | B6: =IF(ISNUMBER(C6),IF(ISNUMBER(B5),IF(C6<C5,"小於期初",IF(C6<>"",C5,"輸入錯誤")),B5),"") | D6: =IF(ISNUMBER(B6),C6-B6,"") | E6: =IF(D6="",D6,C6) | H6: =IF(AND(ISNUMBER(F6),ISNUMBER(G6)),F6*G6,IF(AND(F6>0,G6>0),"Error",""))
A7: =IF(AND(E6<>"",A6<>""),A6+1,"") | B7: =IF(ISNUMBER(C7),IF(ISNUMBER(B6),IF(C7<C6,"小於期初",IF(C7<>"",C6,"輸入錯誤")),B6),"") | D7: =IF(ISNUMBER(B7),C7-B7,"") | E7: =IF(D7="",D7,C7) | H7: =IF(AND(ISNUMBER(F7),ISNUMBER(G7)),F7*G7,IF(AND(F7>0,G7>0),"Error",""))
A8: =IF(AND(E7<>"",A7<>""),A7+1,"") | B8: =IF(ISNUMBER(C8),IF(ISNUMBER(B7),IF(C8<C7,"小於期初",IF(C8<>"",C7,"輸入錯誤")),B7),"") | D8: =IF(ISNUMBER(B8),C8-B8,"") | E8: =IF(D8="",D8,C8) | H8: =IF(AND(ISNUMBER(F8),ISNUMBER(G8)),F8*G8,IF(AND(F8>0,G8>0),"Error",""))
A9: =IF(AND(E8<>"",A8<>""),A8+1,"") | B9: =IF(ISNUMBER(C9),IF(ISNUMBER(B8),IF(C9<C8,"小於期初",IF(C9<>"",C8,"輸入錯誤")),B8),"") | D9: =IF(ISNUMBER(B9),C9-B9,"") | E9: =IF(D9="",D9,C9) | H9: =IF(AND(ISNUMBER(F9),ISNUMBER(G9)),F9*G9,IF(AND(F9>0,G9>0),"Error",""))
A10: =IF(AND(E9<>"",A9<>""),A9+1,"") | B10: =IF(ISNUMBER(C10),IF(ISNUMBER(B9),IF(C10<C9,"小於期初",IF(C10<>"",C9,"輸入錯誤")),B9),"") | D10: =IF(ISNUMBER(B10),C10-B10,"") | E10: =IF(D10="",D10,C10) | H10: =IF(AND(ISNUMBER(F10),ISNUMBER(G10)),F10*G10,IF(AND(F10>0,G10>0),"Error",""))
A11: =IF(AND(E10<>"",A10<>""),A10+1,"") | B11: =IF(ISNUMBER(C11),IF(ISNUMBER(B10),IF(C11<C10,"小於期初",IF(C11<>"",C10,"輸入錯誤")),B10),"") | D11: =IF(ISNUMBER(B11),C11-B11,"") | E11: =IF(D11="",D11,C11) | H11: =IF(AND(ISNUMBER(F11),ISNUMBER(G11)),F11*G11,IF(AND(F11>0,G11>0),"Error",""))
A12: =IF(AND(E11<>"",A11<>""),A11+1,"") | B12: =IF(ISNUMBER(C12),IF(ISNUMBER(B11),IF(C12<C11,"小於期初",IF(C12<>"",C11,"輸入錯誤")),B11),"") | D12: =IF(ISNUMBER(B12),C12-B12,"") | E12: =IF(D12="",D12,C12) | H12: =IF(AND(ISNUMBER(F12),ISNUMBER(G12)),F12*G12,IF(AND(F12>0,G12>0),"Error",""))
A13: =IF(AND(E12<>"",A12<>""),A12+1,"") | B13: =IF(ISNUMBER(C13),IF(ISNUMBER(B12),IF(C13<C12,"小於期初",IF(C13<>"",C12,"輸入錯誤")),B12),"") | D13: =IF(ISNUMBER(B13),C13-B13,"") | E13: =IF(D13="",D13,C13) | H13: =IF(AND(ISNUMBER(F13),ISNUMBER(G13)),F13*G13,IF(AND(F13>0,G13>0),"Error",""))
A14: =IF(AND(E13<>"",A13<>""),A13+1,"") | B14: =IF(ISNUMBER(C14),IF(ISNUMBER(B13),IF(C14<C13,"小於期初",IF(C14<>"",C13,"輸入錯誤")),B13),"") | D14: =IF(ISNUMBER(B14),C14-B14,"") | E14: =IF(D14="",D14,C14) | H14: =IF(AND(ISNUMBER(F14),ISNUMBER(G14)),F14*G14,IF(AND(F14>0,G14>0),"Error",""))
... A1095: =IF(AND(E1094<>"",A1094<>""),A1094+1,"") | B1095: =IF(ISNUMBER(C1095),IF(ISNUMBER(B1094),IF(C1095<C1094,"小於期初",IF(C1095<>"",C1094,"輸入錯誤")),B1094),"") | D1095: =IF(ISNUMBER(B1095),C1095-B1095,"") | E1095: =IF(D1095="",D1095,C1095) | H1095: =IF(AND(ISNUMBER(F1095),ISNUMBER(G1095)),F1095*G1095,IF(AND(F1095>0,G1095>0),"Error",""))

Sheet 油耗報表
B2: 平均油耗 | C2: =IF(H24="","",AVERAGE(H24:H700))
B3: 平均數量 | C3: =IF(H24="","",AVERAGE(C$23:C700))
B4: 平均單價 | C4: =IF(H24="","",AVERAGE(D23:D700))
B5: 平均費用 | C5: =IF(H24="","",AVERAGE(E23:E700))
B6: 平均里程 | C6: =IF(H24="","",AVERAGE(G23:G700))
B7: 總加油量 | C7: =IF(H24="","",SUM(C23:C700))
B8: 總加油費 | C8: =IF(H24="","",SUM(E23:E700))
B9: 加油次數 | C9: =IF(H24="","",COUNTIF(A23:A701,">1"))
B12: Fuel Consumption Ver 0.0.2 Powered By MiniCaesar
A22: 日期 | C22: 數量 | D22: 單價 | E22: 費用 | F22: 加油里程 | G22: 行駛距離 | H22: 油耗
A23: {=IF(COUNTA(里程數!$F:$F)<ROW()-21,"",OFFSET(里程數!$A$1,SMALL(IF(里程數!$F$2:$F$10000>0,ROW(A$23:A$1977)),ROW(A1))-22,MATCH(A$22,里程數!$1:$1,0)-1))} | C23: {=IF(COUNTA(里程數!$F:$F)<ROW()-21,"",OFFSET(里程數!$A$1,SMALL(IF(里程數!$F$2:$F$10000>0,ROW(C$23:C$1977)),ROW(A1))-22,MATCH(C$22,里程數!$1:$1,0)-1))} | D23: {=IF(COUNTA(里程數!$F:$F)<ROW()-21,"",OFFSET(里程數!$A$1,SMALL(IF(里程數!$F$2:$F$10000>0,ROW(D$23:D$1977)),ROW(A1))-22,MATCH(D$22,里程數!$1:$1,0)-1))} | E23: {=IF(COUNTA(里程數!$F:$F)<ROW()-21,"",OFFSET(里程數!$A$1,SMALL(IF(里程數!$F$2:$F$10000>0,ROW(E$23:E$1977)),ROW(A1))-22,MATCH(E$22,里程數!$1:$1,0)-1))} | F23: {=IF(COUNTA(里程數!$F:$F)<ROW()-21,"",OFFSET(里程數!$A$1,SMALL(IF(里程數!$F$2:$F$10000>0,ROW(F$23:F$977)),ROW(A1))-22,MATCH(F$22,里程數!$1:$1,0)-1))} | G23: =IF(AND(ISNUMBER(F23),ISNUMBER(L23)),IF(F23>L23,F23-L23,"Error"),"") | H23: {=IF(COUNTA(里程數!$F:$F)<ROW()-21,"",IF(ISNUMBER(G23),G23/C23,"Error"))} | I23: 首次使用請設定期初里程 | L23: 0
A24: {=IF(COUNTA(里程數!$F:$F)<ROW()-21,"",OFFSET(里程數!$A$1,SMALL(IF(里程數!$F$2:$F$10000>0,ROW(A$23:A$1977)),ROW(A2))-22,MATCH(A$22,里程數!$1:$1,0)-1))} | C24: {=IF(COUNTA(里程數!$F:$F)<ROW()-21,"",OFFSET(里程數!$A$1,SMALL(IF(里程數!$F$2:$F$10000>0,ROW(C$23:C$1977)),ROW(A2))-22,MATCH(C$22,里程數!$1:$1,0)-1))} | D24: {=IF(COUNTA(里程數!$F:$F)<ROW()-21,"",OFFSET(里程數!$A$1,SMALL(IF(里程數!$F$2:$F$10000>0,ROW(D$23:D$1977)),ROW(A2))-22,MATCH(D$22,里程數!$1:$1,0)-1))} | E24: {=IF(COUNTA(里程數!$F:$F)<ROW()-21,"",OFFSET(里程數!$A$1,SMALL(IF(里程數!$F$2:$F$10000>0,ROW(E$23:E$1977)),ROW(A2))-22,MATCH(E$22,里程數!$1:$1,0)-1))} | F24: {=IF(COUNTA(里程數!$F:$F)<ROW()-21,"",OFFSET(里程數!$A$1,SMALL(IF(里程數!$F$2:$F$10000>0,ROW(F$23:F$977)),ROW(A2))-22,MATCH(F$22,里程數!$1:$1,0)-1))} | G24: =IF(AND(ISNUMBER(F24),ISNUMBER(F23)),IF(F24>F23,F24-F23,"Error"),"") | H24: {=IF(COUNTA(里程數!$F:$F)<ROW()-21,"",IF(ISNUMBER(G24),G24/C24,"Error"))}
A25: {=IF(COUNTA(里程數!$F:$F)<ROW()-21,"",OFFSET(里程數!$A$1,SMALL(IF(里程數!$F$2:$F$10000>0,ROW(A$23:A$1977)),ROW(A3))-22,MATCH(A$22,里程數!$1:$1,0)-1))} | C25: {=IF(COUNTA(里程數!$F:$F)<ROW()-21,"",OFFSET(里程數!$A$1,SMALL(IF(里程數!$F$2:$F$10000>0,ROW(C$23:C$1977)),ROW(A3))-22,MATCH(C$22,里程數!$1:$1,0)-1))} | D25: {=IF(COUNTA(里程數!$F:$F)<ROW()-21,"",OFFSET(里程數!$A$1,SMALL(IF(里程數!$F$2:$F$10000>0,ROW(D$23:D$1977)),ROW(A3))-22,MATCH(D$22,里程數!$1:$1,0)-1))} | E25: {=IF(COUNTA(里程數!$F:$F)<ROW()-21,"",OFFSET(里程數!$A$1,SMALL(IF(里程數!$F$2:$F$10000>0,ROW(E$23:E$1977)),ROW(A3))-22,MATCH(E$22,里程數!$1:$1,0)-1))} | F25: {=IF(COUNTA(里程數!$F:$F)<ROW()-21,"",OFFSET(里程數!$A$1,SMALL(IF(里程數!$F$2:$F$10000>0,ROW(F$23:F$977)),ROW(A3))-22,MATCH(F$22,里程數!$1:$1,0)-1))} | G25: =IF(AND(ISNUMBER(F25),ISNUMBER(F24)),IF(F25>F24,F25-F24,"Error"),"") | H25: {=IF(COUNTA(里程數!$F:$F)<ROW()-21,"",IF(ISNUMBER(G25),G25/C25,"Error"))}
A26: {=IF(COUNTA(里程數!$F:$F)<ROW()-21,"",OFFSET(里程數!$A$1,SMALL(IF(里程數!$F$2:$F$10000>0,ROW(A$23:A$1977)),ROW(A4))-22,MATCH(A$22,里程數!$1:$1,0)-1))} | C26: {=IF(COUNTA(里程數!$F:$F)<ROW()-21,"",OFFSET(里程數!$A$1,SMALL(IF(里程數!$F$2:$F$10000>0,ROW(C$23:C$1977)),ROW(A4))-22,MATCH(C$22,里程數!$1:$1,0)-1))} | D26: {=IF(COUNTA(里程數!$F:$F)<ROW()-21,"",OFFSET(里程數!$A$1,SMALL(IF(里程數!$F$2:$F$10000>0,ROW(D$23:D$1977)),ROW(A4))-22,MATCH(D$22,里程數!$1:$1,0)-1))} | E26: {=IF(COUNTA(里程數!$F:$F)<ROW()-21,"",OFFSET(里程數!$A$1,SMALL(IF(里程數!$F$2:$F$10000>0,ROW(E$23:E$1977)),ROW(A4))-22,MATCH(E$22,里程數!$1:$1,0)-1))} | F26: {=IF(COUNTA(里程數!$F:$F)<ROW()-21,"",OFFSET(里程數!$A$1,SMALL(IF(里程數!$F$2:$F$10000>0,ROW(F$23:F$977)),ROW(A4))-22,MATCH(F$22,里程數!$1:$1,0)-1))} | G26: =IF(AND(ISNUMBER(F26),ISNUMBER(F25)),IF(F26>F25,F26-F25,"Error"),"") | H26: {=IF(COUNTA(里程數!$F:$F)<ROW()-21,"",IF(ISNUMBER(G26),G26/C26,"Error"))}
A27: {=IF(COUNTA(里程數!$F:$F)<ROW()-21,"",OFFSET(里程數!$A$1,SMALL(IF(里程數!$F$2:$F$10000>0,ROW(A$23:A$1977)),ROW(A5))-22,MATCH(A$22,里程數!$1:$1,0)-1))} | C27: {=IF(COUNTA(里程數!$F:$F)<ROW()-21,"",OFFSET(里程數!$A$1,SMALL(IF(里程數!$F$2:$F$10000>0,ROW(C$23:C$1977)),ROW(A5))-22,MATCH(C$22,里程數!$1:$1,0)-1))} | D27: {=IF(COUNTA(里程數!$F:$F)<ROW()-21,"",OFFSET(里程數!$A$1,SMALL(IF(里程數!$F$2:$F$10000>0,ROW(D$23:D$1977)),ROW(A5))-22,MATCH(D$22,里程數!$1:$1,0)-1))} | E27: {=IF(COUNTA(里程數!$F:$F)<ROW()-21,"",OFFSET(里程數!$A$1,SMALL(IF(里程數!$F$2:$F$10000>0,ROW(E$23:E$1977)),ROW(A5))-22,MATCH(E$22,里程數!$1:$1,0)-1))} | F27: {=IF(COUNTA(里程數!$F:$F)<ROW()-21,"",OFFSET(里程數!$A$1,SMALL(IF(里程數!$F$2:$F$10000>0,ROW(F$23:F$977)),ROW(A5))-22,MATCH(F$22,里程數!$1:$1,0)-1))} | G27: =IF(AND(ISNUMBER(F27),ISNUMBER(F26)),IF(F27>F26,F27-F26,"Error"),"") | H27: {=IF(COUNTA(里程數!$F:$F)<ROW()-21,"",IF(ISNUMBER(G27),G27/C27,"Error"))}
A28: {=IF(COUNTA(里程數!$F:$F)<ROW()-21,"",OFFSET(里程數!$A$1,SMALL(IF(里程數!$F$2:$F$10000>0,ROW(A$23:A$1977)),ROW(A6))-22,MATCH(A$22,里程數!$1:$1,0)-1))} | C28: {=IF(COUNTA(里程數!$F:$F)<ROW()-21,"",OFFSET(里程數!$A$1,SMALL(IF(里程數!$F$2:$F$10000>0,ROW(C$23:C$1977)),ROW(A6))-22,MATCH(C$22,里程數!$1:$1,0)-1))} | D28: {=IF(COUNTA(里程數!$F:$F)<ROW()-21,"",OFFSET(里程數!$A$1,SMALL(IF(里程數!$F$2:$F$10000>0,ROW(D$23:D$1977)),ROW(A6))-22,MATCH(D$22,里程數!$1:$1,0)-1))} | E28: {=IF(COUNTA(里程數!$F:$F)<ROW()-21,"",OFFSET(里程數!$A$1,SMALL(IF(里程數!$F$2:$F$10000>0,ROW(E$23:E$1977)),ROW(A6))-22,MATCH(E$22,里程數!$1:$1,0)-1))} | F28: {=IF(COUNTA(里程數!$F:$F)<ROW()-21,"",OFFSET(里程數!$A$1,SMALL(IF(里程數!$F$2:$F$10000>0,ROW(F$23:F$977)),ROW(A6))-22,MATCH(F$22,里程數!$1:$1,0)-1))} | G28: =IF(AND(ISNUMBER(F28),ISNUMBER(F27)),IF(F28>F27,F28-F27,"Error"),"") | H28: {=IF(COUNTA(里程數!$F:$F)<ROW()-21,"",IF(ISNUMBER(G28),G28/C28,"Error"))}
A29: {=IF(COUNTA(里程數!$F:$F)<ROW()-21,"",OFFSET(里程數!$A$1,SMALL(IF(里程數!$F$2:$F$10000>0,ROW(A$23:A$1977)),ROW(A7))-22,MATCH(A$22,里程數!$1:$1,0)-1))} | C29: {=IF(COUNTA(里程數!$F:$F)<ROW()-21,"",OFFSET(里程數!$A$1,SMALL(IF(里程數!$F$2:$F$10000>0,ROW(C$23:C$1977)),ROW(A7))-22,MATCH(C$22,里程數!$1:$1,0)-1))} | D29: {=IF(COUNTA(里程數!$F:$F)<ROW()-21,"",OFFSET(里程數!$A$1,SMALL(IF(里程數!$F$2:$F$10000>0,ROW(D$23:D$1977)),ROW(A7))-22,MATCH(D$22,里程數!$1:$1,0)-1))} | E29: {=IF(COUNTA(里程數!$F:$F)<ROW()-21,"",OFFSET(里程數!$A$1,SMALL(IF(里程數!$F$2:$F$10000>0,ROW(E$23:E$1977)),ROW(A7))-22,MATCH(E$22,里程數!$1:$1,0)-1))} | F29: {=IF(COUNTA(里程數!$F:$F)<ROW()-21,"",OFFSET(里程數!$A$1,SMALL(IF(里程數!$F$2:$F$10000>0,ROW(F$23:F$977)),ROW(A7))-22,MATCH(F$22,里程數!$1:$1,0)-1))} | G29: =IF(AND(ISNUMBER(F29),ISNUMBER(F28)),IF(F29>F28,F29-F28,"Error"),"") | H29: {=IF(COUNTA(里程數!$F:$F)<ROW()-21,"",IF(ISNUMBER(G29),G29/C29,"Error"))}
A30: {=IF(COUNTA(里程數!$F:$F)<ROW()-21,"",OFFSET(里程數!$A$1,SMALL(IF(里程數!$F$2:$F$10000>0,ROW(A$23:A$1977)),ROW(A8))-22,MATCH(A$22,里程數!$1:$1,0)-1))} | C30: {=IF(COUNTA(里程數!$F:$F)<ROW()-21,"",OFFSET(里程數!$A$1,SMALL(IF(里程數!$F$2:$F$10000>0,ROW(C$23:C$1977)),ROW(A8))-22,MATCH(C$22,里程數!$1:$1,0)-1))} | D30: {=IF(COUNTA(里程數!$F:$F)<ROW()-21,"",OFFSET(里程數!$A$1,SMALL(IF(里程數!$F$2:$F$10000>0,ROW(D$23:D$1977)),ROW(A8))-22,MATCH(D$22,里程數!$1:$1,0)-1))} | E30: {=IF(COUNTA(里程數!$F:$F)<ROW()-21,"",OFFSET(里程數!$A$1,SMALL(IF(里程數!$F$2:$F$10000>0,ROW(E$23:E$1977)),ROW(A8))-22,MATCH(E$22,里程數!$1:$1,0)-1))} | F30: {=IF(COUNTA(里程數!$F:$F)<ROW()-21,"",OFFSET(里程數!$A$1,SMALL(IF(里程數!$F$2:$F$10000>0,ROW(F$23:F$977)),ROW(A8))-22,MATCH(F$22,里程數!$1:$1,0)-1))} | G30: =IF(AND(ISNUMBER(F30),ISNUMBER(F29)),IF(F30>F29,F30-F29,"Error"),"") | H30: {=IF(COUNTA(里程數!$F:$F)<ROW()-21,"",IF(ISNUMBER(G30),G30/C30,"Error"))}
A31: {=IF(COUNTA(里程數!$F:$F)<ROW()-21,"",OFFSET(里程數!$A$1,SMALL(IF(里程數!$F$2:$F$10000>0,ROW(A$23:A$1977)),ROW(A9))-22,MATCH(A$22,里程數!$1:$1,0)-1))} | C31: {=IF(COUNTA(里程數!$F:$F)<ROW()-21,"",OFFSET(里程數!$A$1,SMALL(IF(里程數!$F$2:$F$10000>0,ROW(C$23:C$1977)),ROW(A9))-22,MATCH(C$22,里程數!$1:$1,0)-1))} | D31: {=IF(COUNTA(里程數!$F:$F)<ROW()-21,"",OFFSET(里程數!$A$1,SMALL(IF(里程數!$F$2:$F$10000>0,ROW(D$23:D$1977)),ROW(A9))-22,MATCH(D$22,里程數!$1:$1,0)-1))} | E31: {=IF(COUNTA(里程數!$F:$F)<ROW()-21,"",OFFSET(里程數!$A$1,SMALL(IF(里程數!$F$2:$F$10000>0,ROW(E$23:E$1977)),ROW(A9))-22,MATCH(E$22,里程數!$1:$1,0)-1))} | F31: {=IF(COUNTA(里程數!$F:$F)<ROW()-21,"",OFFSET(里程數!$A$1,SMALL(IF(里程數!$F$2:$F$10000>0,ROW(F$23:F$977)),ROW(A9))-22,MATCH(F$22,里程數!$1:$1,0)-1))} | G31: =IF(AND(ISNUMBER(F31),ISNUMBER(F30)),IF(F31>F30,F31-F30,"Error"),"") | H31: {=IF(COUNTA(里程數!$F:$F)<ROW()-21,"",IF(ISNUMBER(G31),G31/C31,"Error"))}
A32: {=IF(COUNTA(里程數!$F:$F)<ROW()-21,"",OFFSET(里程數!$A$1,SMALL(IF(里程數!$F$2:$F$10000>0,ROW(A$23:A$1977)),ROW(A10))-22,MATCH(A$22,里程數!$1:$1,0)-1))} | C32: {=IF(COUNTA(里程數!$F:$F)<ROW()-21,"",OFFSET(里程數!$A$1,SMALL(IF(里程數!$F$2:$F$10000>0,ROW(C$23:C$1977)),ROW(A10))-22,MATCH(C$22,里程數!$1:$1,0)-1))} | D32: {=IF(COUNTA(里程數!$F:$F)<ROW()-21,"",OFFSET(里程數!$A$1,SMALL(IF(里程數!$F$2:$F$10000>0,ROW(D$23:D$1977)),ROW(A10))-22,MATCH(D$22,里程數!$1:$1,0)-1))} | E32: {=IF(COUNTA(里程數!$F:$F)<ROW()-21,"",OFFSET(里程數!$A$1,SMALL(IF(里程數!$F$2:$F$10000>0,ROW(E$23:E$1977)),ROW(A10))-22,MATCH(E$22,里程數!$1:$1,0)-1))} | F32: {=IF(COUNTA(里程數!$F:$F)<ROW()-21,"",OFFSET(里程數!$A$1,SMALL(IF(里程數!$F$2:$F$10000>0,ROW(F$23:F$977)),ROW(A10))-22,MATCH(F$22,里程數!$1:$1,0)-1))} | G32: =IF(AND(ISNUMBER(F32),ISNUMBER(F31)),IF(F32>F31,F32-F31,"Error"),"") | H32: {=IF(COUNTA(里程數!$F:$F)<ROW()-21,"",IF(ISNUMBER(G32),G32/C32,"Error"))}
A33: {=IF(COUNTA(里程數!$F:$F)<ROW()-21,"",OFFSET(里程數!$A$1,SMALL(IF(里程數!$F$2:$F$10000>0,ROW(A$23:A$1977)),ROW(A11))-22,MATCH(A$22,里程數!$1:$1,0)-1))} | C33: {=IF(COUNTA(里程數!$F:$F)<ROW()-21,"",OFFSET(里程數!$A$1,SMALL(IF(里程數!$F$2:$F$10000>0,ROW(C$23:C$1977)),ROW(A11))-22,MATCH(C$22,里程數!$1:$1,0)-1))} | D33: {=IF(COUNTA(里程數!$F:$F)<ROW()-21,"",OFFSET(里程數!$A$1,SMALL(IF(里程數!$F$2:$F$10000>0,ROW(D$23:D$1977)),ROW(A11))-22,MATCH(D$22,里程數!$1:$1,0)-1))} | E33: {=IF(COUNTA(里程數!$F:$F)<ROW()-21,"",OFFSET(里程數!$A$1,SMALL(IF(里程數!$F$2:$F$10000>0,ROW(E$23:E$1977)),ROW(A11))-22,MATCH(E$22,里程數!$1:$1,0)-1))} | F33: {=IF(COUNTA(里程數!$F:$F)<ROW()-21,"",OFFSET(里程數!$A$1,SMALL(IF(里程數!$F$2:$F$10000>0,ROW(F$23:F$977)),ROW(A11))-22,MATCH(F$22,里程數!$1:$1,0)-1))} | G33: =IF(AND(ISNUMBER(F33),ISNUMBER(F32)),IF(F33>F32,F33-F32,"Error"),"") | H33: {=IF(COUNTA(里程數!$F:$F)<ROW()-21,"",IF(ISNUMBER(G33),G33/C33,"Error"))}
A34: {=IF(COUNTA(里程數!$F:$F)<ROW()-21,"",OFFSET(里程數!$A$1,SMALL(IF(里程數!$F$2:$F$10000>0,ROW(A$23:A$1977)),ROW(A12))-22,MATCH(A$22,里程數!$1:$1,0)-1))} | C34: {=IF(COUNTA(里程數!$F:$F)<ROW()-21,"",OFFSET(里程數!$A$1,SMALL(IF(里程數!$F$2:$F$10000>0,ROW(C$23:C$1977)),ROW(A12))-22,MATCH(C$22,里程數!$1:$1,0)-1))} | D34: {=IF(COUNTA(里程數!$F:$F)<ROW()-21,"",OFFSET(里程數!$A$1,SMALL(IF(里程數!$F$2:$F$10000>0,ROW(D$23:D$1977)),ROW(A12))-22,MATCH(D$22,里程數!$1:$1,0)-1))} | E34: {=IF(COUNTA(里程數!$F:$F)<ROW()-21,"",OFFSET(里程數!$A$1,SMALL(IF(里程數!$F$2:$F$10000>0,ROW(E$23:E$1977)),ROW(A12))-22,MATCH(E$22,里程數!$1:$1,0)-1))} | F34: {=IF(COUNTA(里程數!$F:$F)<ROW()-21,"",OFFSET(里程數!$A$1,SMALL(IF(里程數!$F$2:$F$10000>0,ROW(F$23:F$977)),ROW(A12))-22,MATCH(F$22,里程數!$1:$1,0)-1))} | G34: =IF(AND(ISNUMBER(F34),ISNUMBER(F33)),IF(F34>F33,F34-F33,"Error"),"") | H34: {=IF(COUNTA(里程數!$F:$F)<ROW()-21,"",IF(ISNUMBER(G34),G34/C34,"Error"))}
A35: {=IF(COUNTA(里程數!$F:$F)<ROW()-21,"",OFFSET(里程數!$A$1,SMALL(IF(里程數!$F$2:$F$10000>0,ROW(A$23:A$1977)),ROW(A13))-22,MATCH(A$22,里程數!$1:$1,0)-1))} | C35: {=IF(COUNTA(里程數!$F:$F)<ROW()-21,"",OFFSET(里程數!$A$1,SMALL(IF(里程數!$F$2:$F$10000>0,ROW(C$23:C$1977)),ROW(A13))-22,MATCH(C$22,里程數!$1:$1,0)-1))} | D35: {=IF(COUNTA(里程數!$F:$F)<ROW()-21,"",OFFSET(里程數!$A$1,SMALL(IF(里程數!$F$2:$F$10000>0,ROW(D$23:D$1977)),ROW(A13))-22,MATCH(D$22,里程數!$1:$1,0)-1))} | E35: {=IF(COUNTA(里程數!$F:$F)<ROW()-21,"",OFFSET(里程數!$A$1,SMALL(IF(里程數!$F$2:$F$10000>0,ROW(E$23:E$1977)),ROW(A13))-22,MATCH(E$22,里程數!$1:$1,0)-1))} | F35: {=IF(COUNTA(里程數!$F:$F)<ROW()-21,"",OFFSET(里程數!$A$1,SMALL(IF(里程數!$F$2:$F$10000>0,ROW(F$23:F$977)),ROW(A13))-22,MATCH(F$22,里程數!$1:$1,0)-1))} | G35: =IF(AND(ISNUMBER(F35),ISNUMBER(F34)),IF(F35>F34,F35-F34,"Error"),"") | H35: {=IF(COUNTA(里程數!$F:$F)<ROW()-21,"",IF(ISNUMBER(G35),G35/C35,"Error"))}
... A77: {=IF(COUNTA(里程數!$F:$F)<ROW()-21,"",OFFSET(里程數!$A$1,SMALL(IF(里程數!$F$2:$F$10000>0,ROW(A$23:A$1977)),ROW(A55))-22,MATCH(A$22,里程數!$1:$1,0)-1))} | C77: {=IF(COUNTA(里程數!$F:$F)<ROW()-21,"",OFFSET(里程數!$A$1,SMALL(IF(里程數!$F$2:$F$10000>0,ROW(C$23:C$1977)),ROW(A55))-22,MATCH(C$22,里程數!$1:$1,0)-1))} | D77: {=IF(COUNTA(里程數!$F:$F)<ROW()-21,"",OFFSET(里程數!$A$1,SMALL(IF(里程數!$F$2:$F$10000>0,ROW(D$23:D$1977)),ROW(A55))-22,MATCH(D$22,里程數!$1:$1,0)-1))} | E77: {=IF(COUNTA(里程數!$F:$F)<ROW()-21,"",OFFSET(里程數!$A$1,SMALL(IF(里程數!$F$2:$F$10000>0,ROW(E$23:E$1977)),ROW(A55))-22,MATCH(E$22,里程數!$1:$1,0)-1))} | F77: {=IF(COUNTA(里程數!$F:$F)<ROW()-21,"",OFFSET(里程數!$A$1,SMALL(IF(里程數!$F$2:$F$10000>0,ROW(F$23:F$977)),ROW(A55))-22,MATCH(F$22,里程數!$1:$1,0)-1))} | G77: =IF(AND(ISNUMBER(F77),ISNUMBER(F76)),IF(F77>F76,F77-F76,"Error"),"") | H77: {=IF(COUNTA(里程數!$F:$F)<ROW()-21,"",IF(ISNUMBER(G77),G77/C77,"Error"))}
A78: {=IF(COUNTA(里程數!$F:$F)<ROW()-21,"",OFFSET(里程數!$A$1,SMALL(IF(里程數!$F$2:$F$10000>0,ROW(A$23:A$1977)),ROW(A56))-22,MATCH(A$22,里程數!$1:$1,0)-1))} | C78: {=IF(COUNTA(里程數!$F:$F)<ROW()-21,"",OFFSET(里程數!$A$1,SMALL(IF(里程數!$F$2:$F$10000>0,ROW(C$23:C$1977)),ROW(A56))-22,MATCH(C$22,里程數!$1:$1,0)-1))} | D78: {=IF(COUNTA(里程數!$F:$F)<ROW()-21,"",OFFSET(里程數!$A$1,SMALL(IF(里程數!$F$2:$F$10000>0,ROW(D$23:D$1977)),ROW(A56))-22,MATCH(D$22,里程數!$1:$1,0)-1))} | E78: {=IF(COUNTA(里程數!$F:$F)<ROW()-21,"",OFFSET(里程數!$A$1,SMALL(IF(里程數!$F$2:$F$10000>0,ROW(E$23:E$1977)),ROW(A56))-22,MATCH(E$22,里程數!$1:$1,0)-1))} | F78: {=IF(COUNTA(里程數!$F:$F)<ROW()-21,"",OFFSET(里程數!$A$1,SMALL(IF(里程數!$F$2:$F$10000>0,ROW(F$23:F$977)),ROW(A56))-22,MATCH(F$22,里程數!$1:$1,0)-1))} | G78: =IF(AND(ISNUMBER(F78),ISNUMBER(F77)),IF(F78>F77,F78-F77,"Error"),"") | H78: =IF(COUNTA(里程數!$F:$F)<ROW()-21," ",IF(ISNUMBER(G78),G78/C78,"Error"))
A79: {=IF(COUNTA(里程數!$F:$F)<ROW()-21,"",OFFSET(里程數!$A$1,SMALL(IF(里程數!$F$2:$F$10000>0,ROW(A$23:A$1977)),ROW(A57))-22,MATCH(A$22,里程數!$1:$1,0)-1))} | C79: {=IF(COUNTA(里程數!$F:$F)<ROW()-21,"",OFFSET(里程數!$A$1,SMALL(IF(里程數!$F$2:$F$10000>0,ROW(C$23:C$1977)),ROW(A57))-22,MATCH(C$22,里程數!$1:$1,0)-1))} | D79: {=IF(COUNTA(里程數!$F:$F)<ROW()-21,"",OFFSET(里程數!$A$1,SMALL(IF(里程數!$F$2:$F$10000>0,ROW(D$23:D$1977)),ROW(A57))-22,MATCH(D$22,里程數!$1:$1,0)-1))} | E79: {=IF(COUNTA(里程數!$F:$F)<ROW()-21,"",OFFSET(里程數!$A$1,SMALL(IF(里程數!$F$2:$F$10000>0,ROW(E$23:E$1977)),ROW(A57))-22,MATCH(E$22,里程數!$1:$1,0)-1))} | F79: {=IF(COUNTA(里程數!$F:$F)<ROW()-21,"",OFFSET(里程數!$A$1,SMALL(IF(里程數!$F$2:$F$10000>0,ROW(F$23:F$977)),ROW(A57))-22,MATCH(F$22,里程數!$1:$1,0)-1))} | G79: =IF(AND(ISNUMBER(F79),ISNUMBER(F78)),IF(F79>F78,F79-F78,"Error"),"") | H79: =IF(COUNTA(里程數!$F:$F)<ROW()-21," ",IF(ISNUMBER(G79),G79/C79,"Error"))
A80: {=IF(COUNTA(里程數!$F:$F)<ROW()-21,"",OFFSET(里程數!$A$1,SMALL(IF(里程數!$F$2:$F$10000>0,ROW(A$23:A$1977)),ROW(A58))-22,MATCH(A$22,里程數!$1:$1,0)-1))} | C80: {=IF(COUNTA(里程數!$F:$F)<ROW()-21,"",OFFSET(里程數!$A$1,SMALL(IF(里程數!$F$2:$F$10000>0,ROW(C$23:C$1977)),ROW(A58))-22,MATCH(C$22,里程數!$1:$1,0)-1))} | D80: {=IF(COUNTA(里程數!$F:$F)<ROW()-21,"",OFFSET(里程數!$A$1,SMALL(IF(里程數!$F$2:$F$10000>0,ROW(D$23:D$1977)),ROW(A58))-22,MATCH(D$22,里程數!$1:$1,0)-1))} | E80: {=IF(COUNTA(里程數!$F:$F)<ROW()-21,"",OFFSET(里程數!$A$1,SMALL(IF(里程數!$F$2:$F$10000>0,ROW(E$23:E$1977)),ROW(A58))-22,MATCH(E$22,里程數!$1:$1,0)-1))} | F80: {=IF(COUNTA(里程數!$F:$F)<ROW()-21,"",OFFSET(里程數!$A$1,SMALL(IF(里程數!$F$2:$F$10000>0,ROW(F$23:F$977)),ROW(A58))-22,MATCH(F$22,里程數!$1:$1,0)-1))} | G80: =IF(AND(ISNUMBER(F80),ISNUMBER(F79)),IF(F80>F79,F80-F79,"Error"),"") | H80: =IF(COUNTA(里程數!$F:$F)<ROW()-21," ",IF(ISNUMBER(G80),G80/C80,"Error"))
A81: {=IF(COUNTA(里程數!$F:$F)<ROW()-21,"",OFFSET(里程數!$A$1,SMALL(IF(里程數!$F$2:$F$10000>0,ROW(A$23:A$1977)),ROW(A59))-22,MATCH(A$22,里程數!$1:$1,0)-1))} | C81: {=IF(COUNTA(里程數!$F:$F)<ROW()-21,"",OFFSET(里程數!$A$1,SMALL(IF(里程數!$F$2:$F$10000>0,ROW(C$23:C$1977)),ROW(A59))-22,MATCH(C$22,里程數!$1:$1,0)-1))} | D81: {=IF(COUNTA(里程數!$F:$F)<ROW()-21,"",OFFSET(里程數!$A$1,SMALL(IF(里程數!$F$2:$F$10000>0,ROW(D$23:D$1977)),ROW(A59))-22,MATCH(D$22,里程數!$1:$1,0)-1))} | E81: {=IF(COUNTA(里程數!$F:$F)<ROW()-21,"",OFFSET(里程數!$A$1,SMALL(IF(里程數!$F$2:$F$10000>0,ROW(E$23:E$1977)),ROW(A59))-22,MATCH(E$22,里程數!$1:$1,0)-1))} | F81: {=IF(COUNTA(里程數!$F:$F)<ROW()-21,"",OFFSET(里程數!$A$1,SMALL(IF(里程數!$F$2:$F$10000>0,ROW(F$23:F$977)),ROW(A59))-22,MATCH(F$22,里程數!$1:$1,0)-1))} | G81: =IF(AND(ISNUMBER(F81),ISNUMBER(F80)),IF(F81>F80,F81-F80,"Error"),"") | H81: =IF(COUNTA(里程數!$F:$F)<ROW()-21," ",IF(ISNUMBER(G81),G81/C81,"Error"))
A82: {=IF(COUNTA(里程數!$F:$F)<ROW()-21,"",OFFSET(里程數!$A$1,SMALL(IF(里程數!$F$2:$F$10000>0,ROW(A$23:A$1977)),ROW(A60))-22,MATCH(A$22,里程數!$1:$1,0)-1))} | C82: {=IF(COUNTA(里程數!$F:$F)<ROW()-21,"",OFFSET(里程數!$A$1,SMALL(IF(里程數!$F$2:$F$10000>0,ROW(C$23:C$1977)),ROW(A60))-22,MATCH(C$22,里程數!$1:$1,0)-1))} | D82: {=IF(COUNTA(里程數!$F:$F)<ROW()-21,"",OFFSET(里程數!$A$1,SMALL(IF(里程數!$F$2:$F$10000>0,ROW(D$23:D$1977)),ROW(A60))-22,MATCH(D$22,里程數!$1:$1,0)-1))} | E82: {=IF(COUNTA(里程數!$F:$F)<ROW()-21,"",OFFSET(里程數!$A$1,SMALL(IF(里程數!$F$2:$F$10000>0,ROW(E$23:E$1977)),ROW(A60))-22,MATCH(E$22,里程數!$1:$1,0)-1))} | F82: {=IF(COUNTA(里程數!$F:$F)<ROW()-21,"",OFFSET(里程數!$A$1,SMALL(IF(里程數!$F$2:$F$10000>0,ROW(F$23:F$977)),ROW(A60))-22,MATCH(F$22,里程數!$1:$1,0)-1))} | G82: =IF(AND(ISNUMBER(F82),ISNUMBER(F81)),IF(F82>F81,F82-F81,"Error"),"") | H82: =IF(COUNTA(里程數!$F:$F)<ROW()-21," ",IF(ISNUMBER(G82),G82/C82,"Error"))
A83: {=IF(COUNTA(里程數!$F:$F)<ROW()-21,"",OFFSET(里程數!$A$1,SMALL(IF(里程數!$F$2:$F$10000>0,ROW(A$23:A$1977)),ROW(A61))-22,MATCH(A$22,里程數!$1:$1,0)-1))} | C83: {=IF(COUNTA(里程數!$F:$F)<ROW()-21,"",OFFSET(里程數!$A$1,SMALL(IF(里程數!$F$2:$F$10000>0,ROW(C$23:C$1977)),ROW(A61))-22,MATCH(C$22,里程數!$1:$1,0)-1))} | D83: {=IF(COUNTA(里程數!$F:$F)<ROW()-21,"",OFFSET(里程數!$A$1,SMALL(IF(里程數!$F$2:$F$10000>0,ROW(D$23:D$1977)),ROW(A61))-22,MATCH(D$22,里程數!$1:$1,0)-1))} | E83: {=IF(COUNTA(里程數!$F:$F)<ROW()-21,"",OFFSET(里程數!$A$1,SMALL(IF(里程數!$F$2:$F$10000>0,ROW(E$23:E$1977)),ROW(A61))-22,MATCH(E$22,里程數!$1:$1,0)-1))} | F83: {=IF(COUNTA(里程數!$F:$F)<ROW()-21,"",OFFSET(里程數!$A$1,SMALL(IF(里程數!$F$2:$F$10000>0,ROW(F$23:F$977)),ROW(A61))-22,MATCH(F$22,里程數!$1:$1,0)-1))} | G83: =IF(AND(ISNUMBER(F83),ISNUMBER(F82)),IF(F83>F82,F83-F82,"Error"),"") | H83: =IF(COUNTA(里程數!$F:$F)<ROW()-21," ",IF(ISNUMBER(G83),G83/C83,"Error"))
A84: {=IF(COUNTA(里程數!$F:$F)<ROW()-21,"",OFFSET(里程數!$A$1,SMALL(IF(里程數!$F$2:$F$10000>0,ROW(A$23:A$1977)),ROW(A62))-22,MATCH(A$22,里程數!$1:$1,0)-1))} | C84: {=IF(COUNTA(里程數!$F:$F)<ROW()-21,"",OFFSET(里程數!$A$1,SMALL(IF(里程數!$F$2:$F$10000>0,ROW(C$23:C$1977)),ROW(A62))-22,MATCH(C$22,里程數!$1:$1,0)-1))} | D84: {=IF(COUNTA(里程數!$F:$F)<ROW()-21,"",OFFSET(里程數!$A$1,SMALL(IF(里程數!$F$2:$F$10000>0,ROW(D$23:D$1977)),ROW(A62))-22,MATCH(D$22,里程數!$1:$1,0)-1))} | E84: {=IF(COUNTA(里程數!$F:$F)<ROW()-21,"",OFFSET(里程數!$A$1,SMALL(IF(里程數!$F$2:$F$10000>0,ROW(E$23:E$1977)),ROW(A62))-22,MATCH(E$22,里程數!$1:$1,0)-1))} | F84: {=IF(COUNTA(里程數!$F:$F)<ROW()-21,"",OFFSET(里程數!$A$1,SMALL(IF(里程數!$F$2:$F$10000>0,ROW(F$23:F$977)),ROW(A62))-22,MATCH(F$22,里程數!$1:$1,0)-1))} | G84: =IF(AND(ISNUMBER(F84),ISNUMBER(F83)),IF(F84>F83,F84-F83,"Error"),"") | H84: =IF(COUNTA(里程數!$F:$F)<ROW()-21," ",IF(ISNUMBER(G84),G84/C84,"Error"))
A85: {=IF(COUNTA(里程數!$F:$F)<ROW()-21,"",OFFSET(里程數!$A$1,SMALL(IF(里程數!$F$2:$F$10000>0,ROW(A$23:A$1977)),ROW(A63))-22,MATCH(A$22,里程數!$1:$1,0)-1))} | C85: {=IF(COUNTA(里程數!$F:$F)<ROW()-21,"",OFFSET(里程數!$A$1,SMALL(IF(里程數!$F$2:$F$10000>0,ROW(C$23:C$1977)),ROW(A63))-22,MATCH(C$22,里程數!$1:$1,0)-1))} | D85: {=IF(COUNTA(里程數!$F:$F)<ROW()-21,"",OFFSET(里程數!$A$1,SMALL(IF(里程數!$F$2:$F$10000>0,ROW(D$23:D$1977)),ROW(A63))-22,MATCH(D$22,里程數!$1:$1,0)-1))} | E85: {=IF(COUNTA(里程數!$F:$F)<ROW()-21,"",OFFSET(里程數!$A$1,SMALL(IF(里程數!$F$2:$F$10000>0,ROW(E$23:E$1977)),ROW(A63))-22,MATCH(E$22,里程數!$1:$1,0)-1))} | F85: {=IF(COUNTA(里程數!$F:$F)<ROW()-21,"",OFFSET(里程數!$A$1,SMALL(IF(里程數!$F$2:$F$10000>0,ROW(F$23:F$977)),ROW(A63))-22,MATCH(F$22,里程數!$1:$1,0)-1))} | G85: =IF(AND(ISNUMBER(F85),ISNUMBER(F84)),IF(F85>F84,F85-F84,"Error"),"") | H85: =IF(COUNTA(里程數!$F:$F)<ROW()-21," ",IF(ISNUMBER(G85),G85/C85,"Error"))
A86: {=IF(COUNTA(里程數!$F:$F)<ROW()-21,"",OFFSET(里程數!$A$1,SMALL(IF(里程數!$F$2:$F$10000>0,ROW(A$23:A$1977)),ROW(A64))-22,MATCH(A$22,里程數!$1:$1,0)-1))} | C86: {=IF(COUNTA(里程數!$F:$F)<ROW()-21,"",OFFSET(里程數!$A$1,SMALL(IF(里程數!$F$2:$F$10000>0,ROW(C$23:C$1977)),ROW(A64))-22,MATCH(C$22,里程數!$1:$1,0)-1))} | D86: {=IF(COUNTA(里程數!$F:$F)<ROW()-21,"",OFFSET(里程數!$A$1,SMALL(IF(里程數!$F$2:$F$10000>0,ROW(D$23:D$1977)),ROW(A64))-22,MATCH(D$22,里程數!$1:$1,0)-1))} | E86: {=IF(COUNTA(里程數!$F:$F)<ROW()-21,"",OFFSET(里程數!$A$1,SMALL(IF(里程數!$F$2:$F$10000>0,ROW(E$23:E$1977)),ROW(A64))-22,MATCH(E$22,里程數!$1:$1,0)-1))} | F86: {=IF(COUNTA(里程數!$F:$F)<ROW()-21,"",OFFSET(里程數!$A$1,SMALL(IF(里程數!$F$2:$F$10000>0,ROW(F$23:F$977)),ROW(A64))-22,MATCH(F$22,里程數!$1:$1,0)-1))} | G86: =IF(AND(ISNUMBER(F86),ISNUMBER(F85)),IF(F86>F85,F86-F85,"Error"),"") | H86: =IF(COUNTA(里程數!$F:$F)<ROW()-21," ",IF(ISNUMBER(G86),G86/C86,"Error"))
A87: {=IF(COUNTA(里程數!$F:$F)<ROW()-21,"",OFFSET(里程數!$A$1,SMALL(IF(里程數!$F$2:$F$10000>0,ROW(A$23:A$1977)),ROW(A65))-22,MATCH(A$22,里程數!$1:$1,0)-1))} | C87: {=IF(COUNTA(里程數!$F:$F)<ROW()-21,"",OFFSET(里程數!$A$1,SMALL(IF(里程數!$F$2:$F$10000>0,ROW(C$23:C$1977)),ROW(A65))-22,MATCH(C$22,里程數!$1:$1,0)-1))} | D87: {=IF(COUNTA(里程數!$F:$F)<ROW()-21,"",OFFSET(里程數!$A$1,SMALL(IF(里程數!$F$2:$F$10000>0,ROW(D$23:D$1977)),ROW(A65))-22,MATCH(D$22,里程數!$1:$1,0)-1))} | E87: {=IF(COUNTA(里程數!$F:$F)<ROW()-21,"",OFFSET(里程數!$A$1,SMALL(IF(里程數!$F$2:$F$10000>0,ROW(E$23:E$1977)),ROW(A65))-22,MATCH(E$22,里程數!$1:$1,0)-1))} | F87: {=IF(COUNTA(里程數!$F:$F)<ROW()-21,"",OFFSET(里程數!$A$1,SMALL(IF(里程數!$F$2:$F$10000>0,ROW(F$23:F$977)),ROW(A65))-22,MATCH(F$22,里程數!$1:$1,0)-1))} | G87: =IF(AND(ISNUMBER(F87),ISNUMBER(F86)),IF(F87>F86,F87-F86,"Error"),"") | H87: =IF(COUNTA(里程數!$F:$F)<ROW()-21," ",IF(ISNUMBER(G87),G87/C87,"Error"))
A88: {=IF(COUNTA(里程數!$F:$F)<ROW()-21,"",OFFSET(里程數!$A$1,SMALL(IF(里程數!$F$2:$F$10000>0,ROW(A$23:A$1977)),ROW(A66))-22,MATCH(A$22,里程數!$1:$1,0)-1))} | C88: {=IF(COUNTA(里程數!$F:$F)<ROW()-21,"",OFFSET(里程數!$A$1,SMALL(IF(里程數!$F$2:$F$10000>0,ROW(C$23:C$1977)),ROW(A66))-22,MATCH(C$22,里程數!$1:$1,0)-1))} | D88: {=IF(COUNTA(里程數!$F:$F)<ROW()-21,"",OFFSET(里程數!$A$1,SMALL(IF(里程數!$F$2:$F$10000>0,ROW(D$23:D$1977)),ROW(A66))-22,MATCH(D$22,里程數!$1:$1,0)-1))} | E88: {=IF(COUNTA(里程數!$F:$F)<ROW()-21,"",OFFSET(里程數!$A$1,SMALL(IF(里程數!$F$2:$F$10000>0,ROW(E$23:E$1977)),ROW(A66))-22,MATCH(E$22,里程數!$1:$1,0)-1))} | F88: {=IF(COUNTA(里程數!$F:$F)<ROW()-21,"",OFFSET(里程數!$A$1,SMALL(IF(里程數!$F$2:$F$10000>0,ROW(F$23:F$977)),ROW(A66))-22,MATCH(F$22,里程數!$1:$1,0)-1))} | G88: =IF(AND(ISNUMBER(F88),ISNUMBER(F87)),IF(F88>F87,F88-F87,"Error"),"") | H88: =IF(COUNTA(里程數!$F:$F)<ROW()-21," ",IF(ISNUMBER(G88),G88/C88,"Error"))
A89: {=IF(COUNTA(里程數!$F:$F)<ROW()-21,"",OFFSET(里程數!$A$1,SMALL(IF(里程數!$F$2:$F$10000>0,ROW(A$23:A$1977)),ROW(A67))-22,MATCH(A$22,里程數!$1:$1,0)-1))} | C89: {=IF(COUNTA(里程數!$F:$F)<ROW()-21,"",OFFSET(里程數!$A$1,SMALL(IF(里程數!$F$2:$F$10000>0,ROW(C$23:C$1977)),ROW(A67))-22,MATCH(C$22,里程數!$1:$1,0)-1))} | D89: {=IF(COUNTA(里程數!$F:$F)<ROW()-21,"",OFFSET(里程數!$A$1,SMALL(IF(里程數!$F$2:$F$10000>0,ROW(D$23:D$1977)),ROW(A67))-22,MATCH(D$22,里程數!$1:$1,0)-1))} | E89: {=IF(COUNTA(里程數!$F:$F)<ROW()-21,"",OFFSET(里程數!$A$1,SMALL(IF(里程數!$F$2:$F$10000>0,ROW(E$23:E$1977)),ROW(A67))-22,MATCH(E$22,里程數!$1:$1,0)-1))} | F89: {=IF(COUNTA(里程數!$F:$F)<ROW()-21,"",OFFSET(里程數!$A$1,SMALL(IF(里程數!$F$2:$F$10000>0,ROW(F$23:F$977)),ROW(A67))-22,MATCH(F$22,里程數!$1:$1,0)-1))} | G89: =IF(AND(ISNUMBER(F89),ISNUMBER(F88)),IF(F89>F88,F89-F88,"Error"),"") | H89: =IF(COUNTA(里程數!$F:$F)<ROW()-21," ",IF(ISNUMBER(G89),G89/C89,"Error"))
... A700: {=IF(COUNTA(里程數!$F:$F)<ROW()-21,"",OFFSET(里程數!$A$1,SMALL(IF(里程數!$F$2:$F$10000>0,ROW(A$23:A$1977)),ROW(A678))-22,MATCH(A$22,里程數!$1:$1,0)-1))} | C700: {=IF(COUNTA(里程數!$F:$F)<ROW()-21,"",OFFSET(里程數!$A$1,SMALL(IF(里程數!$F$2:$F$10000>0,ROW(C$23:C$1977)),ROW(A678))-22,MATCH(C$22,里程數!$1:$1,0)-1))} | D700: {=IF(COUNTA(里程數!$F:$F)<ROW()-21,"",OFFSET(里程數!$A$1,SMALL(IF(里程數!$F$2:$F$10000>0,ROW(D$23:D$1977)),ROW(A678))-22,MATCH(D$22,里程數!$1:$1,0)-1))} | E700: {=IF(COUNTA(里程數!$F:$F)<ROW()-21,"",OFFSET(里程數!$A$1,SMALL(IF(里程數!$F$2:$F$10000>0,ROW(E$23:E$1977)),ROW(A678))-22,MATCH(E$22,里程數!$1:$1,0)-1))} | F700: {=IF(COUNTA(里程數!$F:$F)<ROW()-21,"",OFFSET(里程數!$A$1,SMALL(IF(里程數!$F$2:$F$10000>0,ROW(F$23:F$977)),ROW(A678))-22,MATCH(F$22,里程數!$1:$1,0)-1))} | G700: =IF(AND(ISNUMBER(F700),ISNUMBER(F699)),IF(F700>F699,F700-F699,"Error"),"") | H700: =IF(COUNTA(里程數!$F:$F)<ROW()-21," ",IF(ISNUMBER(G700),G700/C700,"Error"))

Sheet 說明
A1: 日期 | B1: 起始 | C1: 結束 | D1: 行駛 | E1: Total | F1: 數量 | G1: 單價 | H1: 費用 | I1: 加油里程 | J1: 行程 | K1: 保養里程數 | L1: 保養項目
A2: 41264 | B2: 100 | C2: 150 | D2: =IF(ISNUMBER(C2),C2-B2,"") -> 50 | E2: =IF(D2="",D2,C2) -> 150 | F2: 5.25 | G2: 37 | H2: =IF(AND(ISNUMBER(F2),ISNUMBER(G2)),F2*G2,IF(AND(F2>0,G2>0),"Error","")) -> 194.25
A3: =IF(E2<>"",A2+1,"") -> 41265 | B3: =IF(ISNUMBER(C3),IF(C3<C2,"小於期初",C2),IF(C3<>0,"輸入錯誤","")) | D3: =IF(ISNUMBER(B3),C3-B3,"") | E3: =IF(D3="",D3,C3) | H3: =IF(AND(ISNUMBER(F3),ISNUMBER(G3)),F3*G3,IF(AND(F3>0,G3>0),"Error",""))
A4: =IF(E3<>"",A3+1,"") | B4: =IF(ISNUMBER(C4),IF(C4<C3,"小於期初",C3),IF(C4<>0,"輸入錯誤","")) -> 0 | C4: 123 | D4: =IF(ISNUMBER(B4),C4-B4,"") -> 123 | E4: =IF(D4="",D4,C4) -> 123 | H4: =IF(AND(ISNUMBER(F4),ISNUMBER(G4)),F4*G4,IF(AND(F4>0,G4>0),"Error",""))
A5: =IF(E4<>"",A4+1,"") -> #VALUE! | B5: =IF(ISNUMBER(C5),IF(C5<C4,"小於期初",C4),IF(C5<>0,"輸入錯誤","")) | D5: =IF(ISNUMBER(B5),C5-B5,"") | E5: =IF(D5="",D5,C5) | H5: =IF(AND(ISNUMBER(F5),ISNUMBER(G5)),F5*G5,IF(AND(F5>0,G5>0),"Error",""))
A20: 表格上的藍色區域是為了避免觸碰到公式而鎖定
A28: 41177 | B28: ver 0.0.1 | C28: 初始版本。
A29: 41178 | B29: ver 0.0.2 | C29: 1.[里程數] 在 [結束] 欄位，前方無值時輸入資料造成 [日期] 欄位產生 #VALUE 數值錯誤問題。
C30: 2.[里程數] 在 [起始] 欄位，前方 [起始] 值出現錯誤時，造成後方產生錯誤循環問題。
C31: 3.[油耗報表] 修正 [油耗圖表] 下方刻度，以及增加顏色辨識。
C32: 4.移除 EXCEL 表格欄與列的顯示。
